BEGIN:VCALENDAR
VERSION:2.0
PRODID:-//Ayuntamiento de Motril. Transparencia - ECPv6.15.20//NONSGML v1.0//EN
CALSCALE:GREGORIAN
METHOD:PUBLISH
X-ORIGINAL-URL:https://transparencia.motril.es
X-WR-CALDESC:Eventos para Ayuntamiento de Motril. Transparencia
REFRESH-INTERVAL;VALUE=DURATION:PT1H
X-Robots-Tag:noindex
X-PUBLISHED-TTL:PT1H
BEGIN:VTIMEZONE
TZID:UTC
BEGIN:STANDARD
TZOFFSETFROM:+0000
TZOFFSETTO:+0000
TZNAME:UTC
DTSTART:20220101T000000
END:STANDARD
END:VTIMEZONE
BEGIN:VEVENT
DTSTART;TZID=UTC:20230419T093000
DTEND;TZID=UTC:20230419T093000
DTSTAMP:20260424T050741
CREATED:20230418T095516Z
LAST-MODIFIED:20230418T095516Z
UID:6416-1681896600-1681896600@transparencia.motril.es
SUMMARY:La alcaldesa de Motril\, Luisa García Chamorro\, el concejal de Deportes\, Daniel Ortega\, y representantes de Wiber presentan el I Trofeo ciclista Wiber Ciudad de Motril.
DESCRIPTION:
URL:https://transparencia.motril.es/evento/la-alcaldesa-de-motril-luisa-garcia-chamorro-el-concejal-de-deportes-daniel-ortega-y-representantes-de-wiber-presentan-el-i-trofeo-ciclista-wiber-ciudad-de-motril/
CATEGORIES:Actos,Deportes
END:VEVENT
BEGIN:VEVENT
DTSTART;TZID=UTC:20230419T120000
DTEND;TZID=UTC:20230419T120000
DTSTAMP:20260424T050741
CREATED:20230418T095636Z
LAST-MODIFIED:20230418T095636Z
UID:6418-1681905600-1681905600@transparencia.motril.es
SUMMARY:Reunión interna
DESCRIPTION:
URL:https://transparencia.motril.es/evento/reunion-interna-233/
CATEGORIES:Reunión
END:VEVENT
END:VCALENDAR