BEGIN:VCALENDAR
VERSION:2.0
PRODID:-//Ayuntamiento de Motril. Transparencia - ECPv6.15.20//NONSGML v1.0//EN
CALSCALE:GREGORIAN
METHOD:PUBLISH
X-ORIGINAL-URL:https://transparencia.motril.es
X-WR-CALDESC:Eventos para Ayuntamiento de Motril. Transparencia
REFRESH-INTERVAL;VALUE=DURATION:PT1H
X-Robots-Tag:noindex
X-PUBLISHED-TTL:PT1H
BEGIN:VTIMEZONE
TZID:UTC
BEGIN:STANDARD
TZOFFSETFROM:+0000
TZOFFSETTO:+0000
TZNAME:UTC
DTSTART:20220101T000000
END:STANDARD
END:VTIMEZONE
BEGIN:VEVENT
DTSTART;TZID=UTC:20230418T093000
DTEND;TZID=UTC:20230418T093000
DTSTAMP:20260424T050741
CREATED:20230417T111647Z
LAST-MODIFIED:20230417T111647Z
UID:6405-1681810200-1681810200@transparencia.motril.es
SUMMARY:Reunión interna
DESCRIPTION:
URL:https://transparencia.motril.es/evento/reunion-interna-229/
CATEGORIES:Reunión
END:VEVENT
BEGIN:VEVENT
DTSTART;TZID=UTC:20230418T103000
DTEND;TZID=UTC:20230418T103000
DTSTAMP:20260424T050741
CREATED:20230417T111343Z
LAST-MODIFIED:20230417T111343Z
UID:6397-1681813800-1681813800@transparencia.motril.es
SUMMARY:La alcaldesa de Motril\, Luisa García Chamorro asiste a la presentación de la actividad de coches clásicos organizada por los clubes automovilísticos de Granada y Jaén
DESCRIPTION:
URL:https://transparencia.motril.es/evento/la-alcaldesa-de-motril-luisa-garcia-chamorro-asiste-a-la-presentacion-de-la-actividad-de-coches-clasicos-organizada-por-los-clubes-automovilisticos-de-granada-y-jaen/
CATEGORIES:Actos
END:VEVENT
BEGIN:VEVENT
DTSTART;TZID=UTC:20230418T110000
DTEND;TZID=UTC:20230418T110000
DTSTAMP:20260424T050741
CREATED:20230417T111729Z
LAST-MODIFIED:20230417T111729Z
UID:6407-1681815600-1681815600@transparencia.motril.es
SUMMARY:Reunión interna
DESCRIPTION:
URL:https://transparencia.motril.es/evento/reunion-interna-230/
CATEGORIES:Reunión
END:VEVENT
BEGIN:VEVENT
DTSTART;TZID=UTC:20230418T123000
DTEND;TZID=UTC:20230418T123000
DTSTAMP:20260424T050741
CREATED:20230417T120233Z
LAST-MODIFIED:20230417T120233Z
UID:6409-1681821000-1681821000@transparencia.motril.es
SUMMARY:Reunión interna
DESCRIPTION:
URL:https://transparencia.motril.es/evento/reunion-interna-231/
CATEGORIES:Reunión
END:VEVENT
BEGIN:VEVENT
DTSTART;TZID=UTC:20230418T130000
DTEND;TZID=UTC:20230418T130000
DTSTAMP:20260424T050741
CREATED:20230417T120440Z
LAST-MODIFIED:20230417T120440Z
UID:6411-1681822800-1681822800@transparencia.motril.es
SUMMARY:Reunión interna
DESCRIPTION:
URL:https://transparencia.motril.es/evento/reunion-interna-232/
CATEGORIES:Reunión
END:VEVENT
BEGIN:VEVENT
DTSTART;TZID=UTC:20230418T170000
DTEND;TZID=UTC:20230418T170000
DTSTAMP:20260424T050741
CREATED:20230417T111415Z
LAST-MODIFIED:20230417T111415Z
UID:6399-1681837200-1681837200@transparencia.motril.es
SUMMARY:La alcaldesa de Motril\, Luisa García Chamorro y la teniente de alcalde de Acción Social\, Inmaculada Torres\, visitan los centros de mayores para compartir con los grupos las actividades de la tarde
DESCRIPTION:
URL:https://transparencia.motril.es/evento/la-alcaldesa-de-motril-luisa-garcia-chamorro-y-la-teniente-de-alcalde-de-accion-social-inmaculada-torres-visitan-los-centros-de-mayores-para-compartir-con-los-grupos-las-actividades-de-la-tarde/
CATEGORIES:Actos
END:VEVENT
BEGIN:VEVENT
DTSTART;TZID=UTC:20230418T173000
DTEND;TZID=UTC:20230418T173000
DTSTAMP:20260424T050741
CREATED:20230417T111502Z
LAST-MODIFIED:20230417T111502Z
UID:6401-1681839000-1681839000@transparencia.motril.es
SUMMARY:La alcaldesa de Motril\, Luisa García Chamorro y la teniente de alcalde de Acción Social\, Inmaculada Torres\, visitan los centros de mayores para compartir con los grupos las actividades de la tarde
DESCRIPTION:
URL:https://transparencia.motril.es/evento/la-alcaldesa-de-motril-luisa-garcia-chamorro-y-la-teniente-de-alcalde-de-accion-social-inmaculada-torres-visitan-los-centros-de-mayores-para-compartir-con-los-grupos-las-actividades-de-la-tarde-2/
CATEGORIES:Actos
END:VEVENT
BEGIN:VEVENT
DTSTART;TZID=UTC:20230418T180000
DTEND;TZID=UTC:20230418T180000
DTSTAMP:20260424T050741
CREATED:20230417T111540Z
LAST-MODIFIED:20230417T111540Z
UID:6403-1681840800-1681840800@transparencia.motril.es
SUMMARY:La alcaldesa de Motril\, Luisa García Chamorro y la teniente de alcalde de Acción Social\, Inmaculada Torres\, visitan los centros de mayores para compartir con los grupos las actividades de la tarde
DESCRIPTION:
URL:https://transparencia.motril.es/evento/la-alcaldesa-de-motril-luisa-garcia-chamorro-y-la-teniente-de-alcalde-de-accion-social-inmaculada-torres-visitan-los-centros-de-mayores-para-compartir-con-los-grupos-las-actividades-de-la-tarde-3/
CATEGORIES:Actos
END:VEVENT
END:VCALENDAR