BEGIN:VCALENDAR
VERSION:2.0
PRODID:-//Ayuntamiento de Motril. Transparencia - ECPv6.15.20//NONSGML v1.0//EN
CALSCALE:GREGORIAN
METHOD:PUBLISH
X-WR-CALNAME:Ayuntamiento de Motril. Transparencia
X-ORIGINAL-URL:https://transparencia.motril.es
X-WR-CALDESC:Eventos para Ayuntamiento de Motril. Transparencia
REFRESH-INTERVAL;VALUE=DURATION:PT1H
X-Robots-Tag:noindex
X-PUBLISHED-TTL:PT1H
BEGIN:VTIMEZONE
TZID:UTC
BEGIN:STANDARD
TZOFFSETFROM:+0000
TZOFFSETTO:+0000
TZNAME:UTC
DTSTART:20220101T000000
END:STANDARD
END:VTIMEZONE
BEGIN:VEVENT
DTSTART;TZID=UTC:20230417T084500
DTEND;TZID=UTC:20230417T084500
DTSTAMP:20260424T050606
CREATED:20230416T184035Z
LAST-MODIFIED:20230416T184035Z
UID:6393-1681721100-1681721100@transparencia.motril.es
SUMMARY:Reunión interna
DESCRIPTION:
URL:https://transparencia.motril.es/evento/reunion-interna-227/
CATEGORIES:Reunión
END:VEVENT
BEGIN:VEVENT
DTSTART;TZID=UTC:20230417T110000
DTEND;TZID=UTC:20230417T110000
DTSTAMP:20260424T050606
CREATED:20230416T183934Z
LAST-MODIFIED:20230416T183934Z
UID:6391-1681729200-1681729200@transparencia.motril.es
SUMMARY:La alcaldesa de Motril\, Luisa García Chamorro y el concejal de Deportes\, Daniel Ortega\, presentan la camiseta de la Media Maratón 2023
DESCRIPTION:
URL:https://transparencia.motril.es/evento/la-alcaldesa-de-motril-luisa-garcia-chamorro-y-el-concejal-de-deportes-daniel-ortega-presentan-la-camiseta-de-la-media-maraton-2023/
CATEGORIES:Actos,Deportes
END:VEVENT
BEGIN:VEVENT
DTSTART;TZID=UTC:20230417T120000
DTEND;TZID=UTC:20230417T120000
DTSTAMP:20260424T050606
CREATED:20230416T184111Z
LAST-MODIFIED:20230416T184111Z
UID:6395-1681732800-1681732800@transparencia.motril.es
SUMMARY:Reunión interna
DESCRIPTION:
URL:https://transparencia.motril.es/evento/reunion-interna-228/
CATEGORIES:Reunión
END:VEVENT
END:VCALENDAR