BEGIN:VCALENDAR
VERSION:2.0
PRODID:-//Ayuntamiento de Motril. Transparencia - ECPv6.15.20//NONSGML v1.0//EN
CALSCALE:GREGORIAN
METHOD:PUBLISH
X-ORIGINAL-URL:https://transparencia.motril.es
X-WR-CALDESC:Eventos para Ayuntamiento de Motril. Transparencia
REFRESH-INTERVAL;VALUE=DURATION:PT1H
X-Robots-Tag:noindex
X-PUBLISHED-TTL:PT1H
BEGIN:VTIMEZONE
TZID:UTC
BEGIN:STANDARD
TZOFFSETFROM:+0000
TZOFFSETTO:+0000
TZNAME:UTC
DTSTART:20220101T000000
END:STANDARD
END:VTIMEZONE
BEGIN:VEVENT
DTSTART;TZID=UTC:20230416T120000
DTEND;TZID=UTC:20230416T120000
DTSTAMP:20260424T050741
CREATED:20230416T183700Z
LAST-MODIFIED:20230416T183700Z
UID:6389-1681646400-1681646400@transparencia.motril.es
SUMMARY:La alcaldesa de Motril\, Luisa García Chamorro y el concejal de Deportes\, asisten al Campeonato de España de Clubes de primera división de atletismo.
DESCRIPTION:
URL:https://transparencia.motril.es/evento/la-alcaldesa-de-motril-luisa-garcia-chamorro-y-el-concejal-de-deportes-asisten-al-campeonato-de-espana-de-clubes-de-primera-division-de-atletismo/
CATEGORIES:Actos
END:VEVENT
END:VCALENDAR