BEGIN:VCALENDAR
VERSION:2.0
PRODID:-//Ayuntamiento de Motril. Transparencia - ECPv6.15.20//NONSGML v1.0//EN
CALSCALE:GREGORIAN
METHOD:PUBLISH
X-WR-CALNAME:Ayuntamiento de Motril. Transparencia
X-ORIGINAL-URL:https://transparencia.motril.es
X-WR-CALDESC:Eventos para Ayuntamiento de Motril. Transparencia
REFRESH-INTERVAL;VALUE=DURATION:PT1H
X-Robots-Tag:noindex
X-PUBLISHED-TTL:PT1H
BEGIN:VTIMEZONE
TZID:UTC
BEGIN:STANDARD
TZOFFSETFROM:+0000
TZOFFSETTO:+0000
TZNAME:UTC
DTSTART:20220101T000000
END:STANDARD
END:VTIMEZONE
BEGIN:VEVENT
DTSTART;TZID=UTC:20230415T120000
DTEND;TZID=UTC:20230415T120000
DTSTAMP:20260424T050645
CREATED:20230416T183531Z
LAST-MODIFIED:20230416T183531Z
UID:6385-1681560000-1681560000@transparencia.motril.es
SUMMARY:La alcaldesa de Motril\, Luisa García Chamorro visita las actividades Diversión en el parque
DESCRIPTION:
URL:https://transparencia.motril.es/evento/la-alcaldesa-de-motril-luisa-garcia-chamorro-visita-las-actividades-diversion-en-el-parque/
CATEGORIES:Actos
END:VEVENT
BEGIN:VEVENT
DTSTART;TZID=UTC:20230415T210000
DTEND;TZID=UTC:20230415T210000
DTSTAMP:20260424T050645
CREATED:20230416T183611Z
LAST-MODIFIED:20230416T183611Z
UID:6387-1681592400-1681592400@transparencia.motril.es
SUMMARY:La alcaldesa de Motril\, Luisa García Chamorro y miembros del equipo de gobierno asisten a la entrega de medallas del Campeonato de Andalucía oriental en Fase promesas
DESCRIPTION:
URL:https://transparencia.motril.es/evento/la-alcaldesa-de-motril-luisa-garcia-chamorro-y-miembros-del-equipo-de-gobierno-asisten-a-la-entrega-de-medallas-del-campeonato-de-andalucia-oriental-en-fase-promesas/
CATEGORIES:Actos
END:VEVENT
END:VCALENDAR