BEGIN:VCALENDAR
VERSION:2.0
PRODID:-//Ayuntamiento de Motril. Transparencia - ECPv6.15.20//NONSGML v1.0//EN
CALSCALE:GREGORIAN
METHOD:PUBLISH
X-WR-CALNAME:Ayuntamiento de Motril. Transparencia
X-ORIGINAL-URL:https://transparencia.motril.es
X-WR-CALDESC:Eventos para Ayuntamiento de Motril. Transparencia
REFRESH-INTERVAL;VALUE=DURATION:PT1H
X-Robots-Tag:noindex
X-PUBLISHED-TTL:PT1H
BEGIN:VTIMEZONE
TZID:UTC
BEGIN:STANDARD
TZOFFSETFROM:+0000
TZOFFSETTO:+0000
TZNAME:UTC
DTSTART:20220101T000000
END:STANDARD
END:VTIMEZONE
BEGIN:VEVENT
DTSTART;TZID=UTC:20230411T110000
DTEND;TZID=UTC:20230411T110000
DTSTAMP:20260424T050645
CREATED:20230410T184309Z
LAST-MODIFIED:20230410T184309Z
UID:6373-1681210800-1681210800@transparencia.motril.es
SUMMARY:La alcaldesa de Motril\, Luisa García Chamorro asiste a la firma del acuerdo de patrocinio de la cooperativa La Palma al Club Atletismo DelSur
DESCRIPTION:
URL:https://transparencia.motril.es/evento/la-alcaldesa-de-motril-luisa-garcia-chamorro-asiste-a-la-firma-del-acuerdo-de-patrocinio-de-la-cooperativa-la-palma-al-club-atletismo-delsur/
CATEGORIES:Actos,Deportes
END:VEVENT
END:VCALENDAR