BEGIN:VCALENDAR
VERSION:2.0
PRODID:-//Ayuntamiento de Motril. Transparencia - ECPv6.15.20//NONSGML v1.0//EN
CALSCALE:GREGORIAN
METHOD:PUBLISH
X-ORIGINAL-URL:https://transparencia.motril.es
X-WR-CALDESC:Eventos para Ayuntamiento de Motril. Transparencia
REFRESH-INTERVAL;VALUE=DURATION:PT1H
X-Robots-Tag:noindex
X-PUBLISHED-TTL:PT1H
BEGIN:VTIMEZONE
TZID:UTC
BEGIN:STANDARD
TZOFFSETFROM:+0000
TZOFFSETTO:+0000
TZNAME:UTC
DTSTART:20220101T000000
END:STANDARD
END:VTIMEZONE
BEGIN:VEVENT
DTSTART;TZID=UTC:20230403T090000
DTEND;TZID=UTC:20230403T090000
DTSTAMP:20260424T050739
CREATED:20230331T112724Z
LAST-MODIFIED:20230331T112724Z
UID:6351-1680512400-1680512400@transparencia.motril.es
SUMMARY:La alcaldesa de Motril\, Luisa García Chamorro\, asiste a la presentación de la Pasarela peatonal en el Farillo de Calahonda
DESCRIPTION:
URL:https://transparencia.motril.es/evento/la-alcaldesa-de-motril-luisa-garcia-chamorro-asiste-a-la-presentacion-de-la-pasarela-peatonal-en-el-farillo-de-calahonda/
CATEGORIES:Actos
END:VEVENT
BEGIN:VEVENT
DTSTART;TZID=UTC:20230403T100000
DTEND;TZID=UTC:20230403T100000
DTSTAMP:20260424T050739
CREATED:20230331T113611Z
LAST-MODIFIED:20230331T113611Z
UID:6353-1680516000-1680516000@transparencia.motril.es
SUMMARY:La alcaldesa de Motril\, Luisa García Chamorro\, y miembros del equipo de gobierno\, visitan las obras en el Parque de San Antonio
DESCRIPTION:
URL:https://transparencia.motril.es/evento/la-alcaldesa-de-motril-luisa-garcia-chamorro-y-miembros-del-equipo-de-gobierno-visitan-las-obras-en-el-parque-de-san-antonio/
CATEGORIES:Actos
END:VEVENT
BEGIN:VEVENT
DTSTART;TZID=UTC:20230403T110000
DTEND;TZID=UTC:20230403T110000
DTSTAMP:20260424T050739
CREATED:20230331T113729Z
LAST-MODIFIED:20230331T113729Z
UID:6355-1680519600-1680519600@transparencia.motril.es
SUMMARY:La alcaldesa de Motril\, Luisa García Chamorro\, y la concejala de Patrimonio Industrial del Azúcar hacen entrega de las tarjetas de ‘Amigos de la Fábrica’
DESCRIPTION:
URL:https://transparencia.motril.es/evento/la-alcaldesa-de-motril-luisa-garcia-chamorro-y-la-concejala-de-patrimonio-industrial-del-azucar-hacen-entrega-de-las-tarjetas-de-amigos-de-la-fabrica/
CATEGORIES:Actos
END:VEVENT
BEGIN:VEVENT
DTSTART;TZID=UTC:20230403T203000
DTEND;TZID=UTC:20230403T203000
DTSTAMP:20260424T050739
CREATED:20230331T113805Z
LAST-MODIFIED:20230331T113805Z
UID:6357-1680553800-1680553800@transparencia.motril.es
SUMMARY:La alcaldesa de Motril\, Luisa García Chamorro\, asiste a la carrera oficial de la salida procesional de la Cofradía de la Oración de Nuestro Señor en el Huerto de los Olivos y María Santísima de la Victoria
DESCRIPTION:
URL:https://transparencia.motril.es/evento/la-alcaldesa-de-motril-luisa-garcia-chamorro-asiste-a-la-carrera-oficial-de-la-salida-procesional-de-la-cofradia-de-la-oracion-de-nuestro-senor-en-el-huerto-de-los-olivos-y-maria-santisima-de-la-vic/
CATEGORIES:Actos
END:VEVENT
END:VCALENDAR