BEGIN:VCALENDAR
VERSION:2.0
PRODID:-//Ayuntamiento de Motril. Transparencia - ECPv6.15.20//NONSGML v1.0//EN
CALSCALE:GREGORIAN
METHOD:PUBLISH
X-ORIGINAL-URL:https://transparencia.motril.es
X-WR-CALDESC:Eventos para Ayuntamiento de Motril. Transparencia
REFRESH-INTERVAL;VALUE=DURATION:PT1H
X-Robots-Tag:noindex
X-PUBLISHED-TTL:PT1H
BEGIN:VTIMEZONE
TZID:UTC
BEGIN:STANDARD
TZOFFSETFROM:+0000
TZOFFSETTO:+0000
TZNAME:UTC
DTSTART:20220101T000000
END:STANDARD
END:VTIMEZONE
BEGIN:VEVENT
DTSTART;TZID=UTC:20230330T100000
DTEND;TZID=UTC:20230330T100000
DTSTAMP:20260424T050741
CREATED:20230329T155148Z
LAST-MODIFIED:20230329T155148Z
UID:6325-1680170400-1680170400@transparencia.motril.es
SUMMARY:La alcaldesa de Motril\, Luisa García Chamorro\, junto a varios miembros del equipo de gobierno\, visita las obras que se están realizando en la parcela Arimot 4
DESCRIPTION:
URL:https://transparencia.motril.es/evento/la-alcaldesa-de-motril-luisa-garcia-chamorro-junto-a-varios-miembros-del-equipo-de-gobierno-visita-las-obras-que-se-estan-realizando-en-la-parcela-arimot-4/
CATEGORIES:Actos
END:VEVENT
BEGIN:VEVENT
DTSTART;TZID=UTC:20230330T113000
DTEND;TZID=UTC:20230330T113000
DTSTAMP:20260424T050741
CREATED:20230329T155230Z
LAST-MODIFIED:20230329T155230Z
UID:6327-1680175800-1680175800@transparencia.motril.es
SUMMARY:La alcaldesa de Motril\, Luisa García Chamorro\, junto a varios miembros del equipo de gobierno\, presenta las actuaciones a realizar en el puente pilotado de Playa Granada
DESCRIPTION:
URL:https://transparencia.motril.es/evento/la-alcaldesa-de-motril-luisa-garcia-chamorro-junto-a-varios-miembros-del-equipo-de-gobierno-presenta-las-actuaciones-a-realizar-en-el-puente-pilotado-de-playa-granada/
CATEGORIES:Actos
END:VEVENT
BEGIN:VEVENT
DTSTART;TZID=UTC:20230330T120000
DTEND;TZID=UTC:20230330T120000
DTSTAMP:20260424T050741
CREATED:20230329T155312Z
LAST-MODIFIED:20230329T155312Z
UID:6329-1680177600-1680177600@transparencia.motril.es
SUMMARY:La alcaldesa de Motril\, Luisa García Chamorro\, junto a varios miembros del equipo de gobierno\, visita la zona donde se instalará un parque infantil en Playa de Poniente
DESCRIPTION:
URL:https://transparencia.motril.es/evento/la-alcaldesa-de-motril-luisa-garcia-chamorro-junto-a-varios-miembros-del-equipo-de-gobierno-visita-la-zona-donde-se-instalara-un-parque-infantil-en-playa-de-poniente/
CATEGORIES:Actos
END:VEVENT
BEGIN:VEVENT
DTSTART;TZID=UTC:20230330T163000
DTEND;TZID=UTC:20230330T163000
DTSTAMP:20260424T050741
CREATED:20230329T155353Z
LAST-MODIFIED:20230329T155353Z
UID:6331-1680193800-1680193800@transparencia.motril.es
SUMMARY:La alcaldesa de Motril\, Luisa García Chamorro\, junto al Jefe del Estado Mayor de la Defensa\, el almirante general Teodoro E. López Calderón\, presentan los actos que se desarrollan en Motril y Granada del 31 de mayo al 3 de junio con motivo del Día de las Fuerzas Armadas
DESCRIPTION:
URL:https://transparencia.motril.es/evento/la-alcaldesa-de-motril-luisa-garcia-chamorro-junto-al-jefe-del-estado-mayor-de-la-defensa-el-almirante-general-teodoro-e-lopez-calderon-presentan-los-actos-que-se-desarrollan-en-motril-y-granada/
CATEGORIES:Actos
END:VEVENT
END:VCALENDAR