BEGIN:VCALENDAR
VERSION:2.0
PRODID:-//Ayuntamiento de Motril. Transparencia - ECPv6.15.20//NONSGML v1.0//EN
CALSCALE:GREGORIAN
METHOD:PUBLISH
X-ORIGINAL-URL:https://transparencia.motril.es
X-WR-CALDESC:Eventos para Ayuntamiento de Motril. Transparencia
REFRESH-INTERVAL;VALUE=DURATION:PT1H
X-Robots-Tag:noindex
X-PUBLISHED-TTL:PT1H
BEGIN:VTIMEZONE
TZID:UTC
BEGIN:STANDARD
TZOFFSETFROM:+0000
TZOFFSETTO:+0000
TZNAME:UTC
DTSTART:20220101T000000
END:STANDARD
END:VTIMEZONE
BEGIN:VEVENT
DTSTART;TZID=UTC:20230327T090000
DTEND;TZID=UTC:20230327T090000
DTSTAMP:20260424T033515
CREATED:20230326T185204Z
LAST-MODIFIED:20230326T185204Z
UID:6290-1679907600-1679907600@transparencia.motril.es
SUMMARY:Reunión interna
DESCRIPTION:
URL:https://transparencia.motril.es/evento/reunion-interna-219/
CATEGORIES:Reunión
END:VEVENT
BEGIN:VEVENT
DTSTART;TZID=UTC:20230327T100000
DTEND;TZID=UTC:20230327T100000
DTSTAMP:20260424T033515
CREATED:20230326T185249Z
LAST-MODIFIED:20230326T185249Z
UID:6292-1679911200-1679911200@transparencia.motril.es
SUMMARY:Reunión interna
DESCRIPTION:
URL:https://transparencia.motril.es/evento/reunion-interna-220/
CATEGORIES:Reunión
END:VEVENT
BEGIN:VEVENT
DTSTART;TZID=UTC:20230327T103000
DTEND;TZID=UTC:20230327T103000
DTSTAMP:20260424T033515
CREATED:20230326T185338Z
LAST-MODIFIED:20230326T185338Z
UID:6294-1679913000-1679913000@transparencia.motril.es
SUMMARY:Reunión interna
DESCRIPTION:
URL:https://transparencia.motril.es/evento/reunion-interna-221/
CATEGORIES:Reunión
END:VEVENT
BEGIN:VEVENT
DTSTART;TZID=UTC:20230327T113000
DTEND;TZID=UTC:20230327T113000
DTSTAMP:20260424T033515
CREATED:20230324T173940Z
LAST-MODIFIED:20230324T173940Z
UID:6276-1679916600-1679916600@transparencia.motril.es
SUMMARY:La alcaldesa de Motril\, Luisa García Chamorro\, junto a miembros del equipo de gobierno\, visita las obras de la Fábrica del Pilar
DESCRIPTION:
URL:https://transparencia.motril.es/evento/la-alcaldesa-de-motril-luisa-garcia-chamorro-junto-a-miembros-del-equipo-de-gobierno-visita-las-obras-de-la-fabrica-del-pilar-2/
CATEGORIES:Actos
END:VEVENT
BEGIN:VEVENT
DTSTART;TZID=UTC:20230327T200000
DTEND;TZID=UTC:20230327T200000
DTSTAMP:20260424T033515
CREATED:20230324T174102Z
LAST-MODIFIED:20230324T174102Z
UID:6278-1679947200-1679947200@transparencia.motril.es
SUMMARY:La alcaldesa de Motril\, Luisa García Chamorro\, asiste a la inauguración del Restaurante ‘El trasiego’
DESCRIPTION:
URL:https://transparencia.motril.es/evento/la-alcaldesa-de-motril-luisa-garcia-chamorro-asiste-a-la-inauguracion-del-restaurante-el-trasiego/
CATEGORIES:Actos
END:VEVENT
END:VCALENDAR