BEGIN:VCALENDAR
VERSION:2.0
PRODID:-//Ayuntamiento de Motril. Transparencia - ECPv6.15.20//NONSGML v1.0//EN
CALSCALE:GREGORIAN
METHOD:PUBLISH
X-WR-CALNAME:Ayuntamiento de Motril. Transparencia
X-ORIGINAL-URL:https://transparencia.motril.es
X-WR-CALDESC:Eventos para Ayuntamiento de Motril. Transparencia
REFRESH-INTERVAL;VALUE=DURATION:PT1H
X-Robots-Tag:noindex
X-PUBLISHED-TTL:PT1H
BEGIN:VTIMEZONE
TZID:UTC
BEGIN:STANDARD
TZOFFSETFROM:+0000
TZOFFSETTO:+0000
TZNAME:UTC
DTSTART:20220101T000000
END:STANDARD
END:VTIMEZONE
BEGIN:VEVENT
DTSTART;TZID=UTC:20230316T093000
DTEND;TZID=UTC:20230316T093000
DTSTAMP:20260424T032729
CREATED:20230315T131354Z
LAST-MODIFIED:20230315T131354Z
UID:6212-1678959000-1678959000@transparencia.motril.es
SUMMARY:Reunión interna
DESCRIPTION:
URL:https://transparencia.motril.es/evento/reunion-interna-216/
CATEGORIES:Reunión
END:VEVENT
BEGIN:VEVENT
DTSTART;TZID=UTC:20230316T100000
DTEND;TZID=UTC:20230316T100000
DTSTAMP:20260424T032729
CREATED:20230315T131430Z
LAST-MODIFIED:20230315T131517Z
UID:6214-1678960800-1678960800@transparencia.motril.es
SUMMARY:Reunión interna
DESCRIPTION:
URL:https://transparencia.motril.es/evento/reunion-interna-217/
CATEGORIES:Reunión
END:VEVENT
BEGIN:VEVENT
DTSTART;TZID=UTC:20230316T130000
DTEND;TZID=UTC:20230316T130000
DTSTAMP:20260424T032729
CREATED:20230315T131626Z
LAST-MODIFIED:20230315T131626Z
UID:6216-1678971600-1678971600@transparencia.motril.es
SUMMARY:La alcaldesa de Motril\, Luisa García Chamorro y Mari Paz García\, presidenta del Colegio de Aparejadores y arquitectos de Granada\, proceden a la renovación del convenio entre ambas instituciones
DESCRIPTION:
URL:https://transparencia.motril.es/evento/la-alcaldesa-de-motril-luisa-garcia-chamorro-y-mari-paz-garcia-presidenta-del-colegio-de-aparejadores-y-arquitectos-de-granada-proceden-a-la-renovacion-del-convenio-entre-ambas-instituciones/
CATEGORIES:Actos
END:VEVENT
BEGIN:VEVENT
DTSTART;TZID=UTC:20230316T183000
DTEND;TZID=UTC:20230316T183000
DTSTAMP:20260424T032729
CREATED:20230315T131720Z
LAST-MODIFIED:20230315T131720Z
UID:6218-1678991400-1678991400@transparencia.motril.es
SUMMARY:La alcaldesa de Motril\, Luisa García Chamorro asiste a la inauguración de la Exposición de la Fundación ONCE ‘El mundo fluye\, dos miradas sobre una misma realidad’
DESCRIPTION:
URL:https://transparencia.motril.es/evento/la-alcaldesa-de-motril-luisa-garcia-chamorro-asiste-a-la-inauguracion-de-la-exposicion-de-la-fundacion-once-el-mundo-fluye-dos-miradas-sobre-una-misma-realidad/
CATEGORIES:Acción Social,Actos
END:VEVENT
BEGIN:VEVENT
DTSTART;TZID=UTC:20230316T200000
DTEND;TZID=UTC:20230316T200000
DTSTAMP:20260424T032729
CREATED:20230315T131807Z
LAST-MODIFIED:20230315T131807Z
UID:6220-1678996800-1678996800@transparencia.motril.es
SUMMARY:La alcaldesa de Motril\, Luisa García Chamorro asiste a la conferencia de la antropóloga Estefanía Fernández ‘Salvaguardar el patrimonio industrial del azúcar. Memoria oral de la Fábrica del Pilar’
DESCRIPTION:
URL:https://transparencia.motril.es/evento/la-alcaldesa-de-motril-luisa-garcia-chamorro-asiste-a-la-conferencia-de-la-antropologa-estefania-fernandez-salvaguardar-el-patrimonio-industrial-del-azucar-memoria-oral-de-la-fabrica-del-pi/
CATEGORIES:Actos
END:VEVENT
END:VCALENDAR