BEGIN:VCALENDAR
VERSION:2.0
PRODID:-//Ayuntamiento de Motril. Transparencia - ECPv6.15.20//NONSGML v1.0//EN
CALSCALE:GREGORIAN
METHOD:PUBLISH
X-WR-CALNAME:Ayuntamiento de Motril. Transparencia
X-ORIGINAL-URL:https://transparencia.motril.es
X-WR-CALDESC:Eventos para Ayuntamiento de Motril. Transparencia
REFRESH-INTERVAL;VALUE=DURATION:PT1H
X-Robots-Tag:noindex
X-PUBLISHED-TTL:PT1H
BEGIN:VTIMEZONE
TZID:UTC
BEGIN:STANDARD
TZOFFSETFROM:+0000
TZOFFSETTO:+0000
TZNAME:UTC
DTSTART:20220101T000000
END:STANDARD
END:VTIMEZONE
BEGIN:VEVENT
DTSTART;TZID=UTC:20230309T100000
DTEND;TZID=UTC:20230309T100000
DTSTAMP:20260424T032741
CREATED:20230309T085757Z
LAST-MODIFIED:20230309T085757Z
UID:6156-1678356000-1678356000@transparencia.motril.es
SUMMARY:La alcaldesa de Motril\, Luisa García Chamorro\, junto a miembros del equipo de gobierno y los padres de María Teresa Fernández\, asisten al acto en conmemoración de las personas desaparecidas sin causa aparente
DESCRIPTION:
URL:https://transparencia.motril.es/evento/la-alcaldesa-de-motril-luisa-garcia-chamorro-junto-a-miembros-del-equipo-de-gobierno-y-los-padres-de-maria-teresa-fernandez-asisten-al-acto-en-conmemoracion-de-las-personas-desaparecidas-sin-causa/
CATEGORIES:Actos
END:VEVENT
BEGIN:VEVENT
DTSTART;TZID=UTC:20230309T103000
DTEND;TZID=UTC:20230309T103000
DTSTAMP:20260424T032741
CREATED:20230309T090342Z
LAST-MODIFIED:20230309T090342Z
UID:6162-1678357800-1678357800@transparencia.motril.es
SUMMARY:Reunión interna
DESCRIPTION:
URL:https://transparencia.motril.es/evento/reunion-interna-208/
CATEGORIES:Reunión
END:VEVENT
BEGIN:VEVENT
DTSTART;TZID=UTC:20230309T113000
DTEND;TZID=UTC:20230309T113000
DTSTAMP:20260424T032741
CREATED:20230309T090433Z
LAST-MODIFIED:20230309T090433Z
UID:6164-1678361400-1678361400@transparencia.motril.es
SUMMARY:Reunión interna
DESCRIPTION:
URL:https://transparencia.motril.es/evento/reunion-interna-209/
CATEGORIES:Reunión
END:VEVENT
BEGIN:VEVENT
DTSTART;TZID=UTC:20230309T120000
DTEND;TZID=UTC:20230309T120000
DTSTAMP:20260424T032741
CREATED:20230309T090513Z
LAST-MODIFIED:20230309T090513Z
UID:6166-1678363200-1678363200@transparencia.motril.es
SUMMARY:Reunión interna
DESCRIPTION:
URL:https://transparencia.motril.es/evento/reunion-interna-210/
CATEGORIES:Reunión
END:VEVENT
BEGIN:VEVENT
DTSTART;TZID=UTC:20230309T123000
DTEND;TZID=UTC:20230309T123000
DTSTAMP:20260424T032741
CREATED:20230309T090600Z
LAST-MODIFIED:20230309T090600Z
UID:6168-1678365000-1678365000@transparencia.motril.es
SUMMARY:Reunión interna
DESCRIPTION:
URL:https://transparencia.motril.es/evento/reunion-interna-211/
CATEGORIES:Reunión
END:VEVENT
BEGIN:VEVENT
DTSTART;TZID=UTC:20230309T133000
DTEND;TZID=UTC:20230309T133000
DTSTAMP:20260424T032741
CREATED:20230309T090648Z
LAST-MODIFIED:20230309T090648Z
UID:6170-1678368600-1678368600@transparencia.motril.es
SUMMARY:Reunión interna
DESCRIPTION:
URL:https://transparencia.motril.es/evento/reunion-interna-212/
CATEGORIES:Reunión
END:VEVENT
BEGIN:VEVENT
DTSTART;TZID=UTC:20230309T200000
DTEND;TZID=UTC:20230309T200000
DTSTAMP:20260424T032741
CREATED:20230309T090145Z
LAST-MODIFIED:20230309T090145Z
UID:6158-1678392000-1678392000@transparencia.motril.es
SUMMARY:La alcaldesa de Motril\, Luisa García Chamorro\, y miembros del equipo de gobierno asisten a la conferencia ‘Patrimonio constructivo e industrial en la Fábrica Azucarera del Pilar’ dentro del Ciclo de Conferencias de Patrimonio Industrial\, del Azúcar\, que será ofrecida por Agustín Castillo
DESCRIPTION:
URL:https://transparencia.motril.es/evento/la-alcaldesa-de-motril-luisa-garcia-chamorro-y-miembros-del-equipo-de-gobierno-asisten-a-la-conferencia-patrimonio-constructivo-e-industrial-en-la-fabrica-azucarera-del-pilar-dentr/
CATEGORIES:Actos
END:VEVENT
BEGIN:VEVENT
DTSTART;TZID=UTC:20230309T203000
DTEND;TZID=UTC:20230309T203000
DTSTAMP:20260424T032741
CREATED:20230309T090249Z
LAST-MODIFIED:20230309T090249Z
UID:6160-1678393800-1678393800@transparencia.motril.es
SUMMARY:La alcaldesa de Motril\, Luisa García Chamorro\, junto a miembros del equipo de gobierno\, asiste a la gala ‘La Pasión hecha arte’ a beneficio de la Asociación de vecinos del barrio de las Angustias
DESCRIPTION:
URL:https://transparencia.motril.es/evento/la-alcaldesa-de-motril-luisa-garcia-chamorro-junto-a-miembros-del-equipo-de-gobierno-asiste-a-la-gala-la-pasion-hecha-arte-a-beneficio-de-la-asociacion-de-vecinos-del-barrio-de-la/
CATEGORIES:Actos
END:VEVENT
END:VCALENDAR