BEGIN:VCALENDAR
VERSION:2.0
PRODID:-//Ayuntamiento de Motril. Transparencia - ECPv6.15.20//NONSGML v1.0//EN
CALSCALE:GREGORIAN
METHOD:PUBLISH
X-WR-CALNAME:Ayuntamiento de Motril. Transparencia
X-ORIGINAL-URL:https://transparencia.motril.es
X-WR-CALDESC:Eventos para Ayuntamiento de Motril. Transparencia
REFRESH-INTERVAL;VALUE=DURATION:PT1H
X-Robots-Tag:noindex
X-PUBLISHED-TTL:PT1H
BEGIN:VTIMEZONE
TZID:UTC
BEGIN:STANDARD
TZOFFSETFROM:+0000
TZOFFSETTO:+0000
TZNAME:UTC
DTSTART:20220101T000000
END:STANDARD
END:VTIMEZONE
BEGIN:VEVENT
DTSTART;TZID=UTC:20230307T100000
DTEND;TZID=UTC:20230307T100000
DTSTAMP:20260424T032616
CREATED:20230306T132310Z
LAST-MODIFIED:20230306T132310Z
UID:6140-1678183200-1678183200@transparencia.motril.es
SUMMARY:Reunión interna
DESCRIPTION:
URL:https://transparencia.motril.es/evento/reunion-interna-203/
CATEGORIES:Reunión
END:VEVENT
BEGIN:VEVENT
DTSTART;TZID=UTC:20230307T110000
DTEND;TZID=UTC:20230307T110000
DTSTAMP:20260424T032616
CREATED:20230306T132217Z
LAST-MODIFIED:20230306T132217Z
UID:6138-1678186800-1678186800@transparencia.motril.es
SUMMARY:La alcaldesa de Motril\, Luisa García Chamorro\, y la concejala de Comercio\, Susana Peña\, presentan junto a las organizadoras el Desfile benéfico de moda.
DESCRIPTION:
URL:https://transparencia.motril.es/evento/la-alcaldesa-de-motril-luisa-garcia-chamorro-y-la-concejala-de-comercio-susana-pena-presentan-junto-a-las-organizadoras-el-desfile-benefico-de-moda/
CATEGORIES:Actos,Comercio
END:VEVENT
BEGIN:VEVENT
DTSTART;TZID=UTC:20230307T113000
DTEND;TZID=UTC:20230307T113000
DTSTAMP:20260424T032616
CREATED:20230306T132343Z
LAST-MODIFIED:20230306T132343Z
UID:6142-1678188600-1678188600@transparencia.motril.es
SUMMARY:Reunión interna
DESCRIPTION:
URL:https://transparencia.motril.es/evento/reunion-interna-204/
CATEGORIES:Reunión
END:VEVENT
BEGIN:VEVENT
DTSTART;TZID=UTC:20230307T123000
DTEND;TZID=UTC:20230307T123000
DTSTAMP:20260424T032616
CREATED:20230306T132419Z
LAST-MODIFIED:20230306T132419Z
UID:6144-1678192200-1678192200@transparencia.motril.es
SUMMARY:Reunión interna
DESCRIPTION:
URL:https://transparencia.motril.es/evento/reunion-interna-205/
CATEGORIES:Reunión
END:VEVENT
BEGIN:VEVENT
DTSTART;TZID=UTC:20230307T124500
DTEND;TZID=UTC:20230307T124500
DTSTAMP:20260424T032616
CREATED:20230306T132505Z
LAST-MODIFIED:20230306T132505Z
UID:6146-1678193100-1678193100@transparencia.motril.es
SUMMARY:Reunión interna
DESCRIPTION:
URL:https://transparencia.motril.es/evento/reunion-interna-206/
CATEGORIES:Reunión
END:VEVENT
BEGIN:VEVENT
DTSTART;TZID=UTC:20230307T130000
DTEND;TZID=UTC:20230307T130000
DTSTAMP:20260424T032616
CREATED:20230306T132538Z
LAST-MODIFIED:20230306T132538Z
UID:6148-1678194000-1678194000@transparencia.motril.es
SUMMARY:Reunión interna
DESCRIPTION:
URL:https://transparencia.motril.es/evento/reunion-interna-207/
CATEGORIES:Reunión
END:VEVENT
END:VCALENDAR