BEGIN:VCALENDAR
VERSION:2.0
PRODID:-//Ayuntamiento de Motril. Transparencia - ECPv6.15.20//NONSGML v1.0//EN
CALSCALE:GREGORIAN
METHOD:PUBLISH
X-WR-CALNAME:Ayuntamiento de Motril. Transparencia
X-ORIGINAL-URL:https://transparencia.motril.es
X-WR-CALDESC:Eventos para Ayuntamiento de Motril. Transparencia
REFRESH-INTERVAL;VALUE=DURATION:PT1H
X-Robots-Tag:noindex
X-PUBLISHED-TTL:PT1H
BEGIN:VTIMEZONE
TZID:UTC
BEGIN:STANDARD
TZOFFSETFROM:+0000
TZOFFSETTO:+0000
TZNAME:UTC
DTSTART:20220101T000000
END:STANDARD
END:VTIMEZONE
BEGIN:VEVENT
DTSTART;TZID=UTC:20230306T103000
DTEND;TZID=UTC:20230306T103000
DTSTAMP:20260424T032732
CREATED:20230303T135018Z
LAST-MODIFIED:20230303T135018Z
UID:6131-1678098600-1678098600@transparencia.motril.es
SUMMARY:Reunión interna
DESCRIPTION:
URL:https://transparencia.motril.es/evento/reunion-interna-201/
CATEGORIES:Reunión
END:VEVENT
BEGIN:VEVENT
DTSTART;TZID=UTC:20230306T110000
DTEND;TZID=UTC:20230306T110000
DTSTAMP:20260424T032732
CREATED:20230303T135105Z
LAST-MODIFIED:20230303T135105Z
UID:6133-1678100400-1678100400@transparencia.motril.es
SUMMARY:Reunión interna
DESCRIPTION:
URL:https://transparencia.motril.es/evento/reunion-interna-202/
CATEGORIES:Reunión
END:VEVENT
BEGIN:VEVENT
DTSTART;TZID=UTC:20230306T120000
DTEND;TZID=UTC:20230306T120000
DTSTAMP:20260424T032732
CREATED:20230303T134923Z
LAST-MODIFIED:20230303T134923Z
UID:6129-1678104000-1678104000@transparencia.motril.es
SUMMARY:La alcaldesa de Motril\, Luisa García Chamorro\, junto a miembros del equipo de gobierno\, visita las actuaciones de instalación de luminarias en la entrada de Motril por la rotonda de Alcampo
DESCRIPTION:
URL:https://transparencia.motril.es/evento/la-alcaldesa-de-motril-luisa-garcia-chamorro-junto-a-miembros-del-equipo-de-gobierno-visita-las-actuaciones-de-instalacion-de-luminarias-en-la-entrada-de-motril-por-la-rotonda-de-alcampo/
CATEGORIES:Actos
END:VEVENT
END:VCALENDAR