BEGIN:VCALENDAR
VERSION:2.0
PRODID:-//Ayuntamiento de Motril. Transparencia - ECPv6.15.20//NONSGML v1.0//EN
CALSCALE:GREGORIAN
METHOD:PUBLISH
X-WR-CALNAME:Ayuntamiento de Motril. Transparencia
X-ORIGINAL-URL:https://transparencia.motril.es
X-WR-CALDESC:Eventos para Ayuntamiento de Motril. Transparencia
REFRESH-INTERVAL;VALUE=DURATION:PT1H
X-Robots-Tag:noindex
X-PUBLISHED-TTL:PT1H
BEGIN:VTIMEZONE
TZID:UTC
BEGIN:STANDARD
TZOFFSETFROM:+0000
TZOFFSETTO:+0000
TZNAME:UTC
DTSTART:20220101T000000
END:STANDARD
END:VTIMEZONE
BEGIN:VEVENT
DTSTART;TZID=UTC:20230227T100000
DTEND;TZID=UTC:20230227T100000
DTSTAMP:20260424T014628
CREATED:20230224T122058Z
LAST-MODIFIED:20230224T122058Z
UID:6095-1677492000-1677492000@transparencia.motril.es
SUMMARY:La alcaldesa de Motril\, Luisa García Chamorro\, asiste a la entrega de un mosaico de la Fábrica de Lourdes
DESCRIPTION:
URL:https://transparencia.motril.es/evento/la-alcaldesa-de-motril-luisa-garcia-chamorro-asiste-a-la-entrega-de-un-mosaico-de-la-fabrica-de-lourdes/
LOCATION:Fábrica de Nuestra Señora del Pilar\, Motril\, Granada\, 18600\, España
END:VEVENT
BEGIN:VEVENT
DTSTART;TZID=UTC:20230227T103000
DTEND;TZID=UTC:20230227T103000
DTSTAMP:20260424T014628
CREATED:20230224T122157Z
LAST-MODIFIED:20230224T122157Z
UID:6097-1677493800-1677493800@transparencia.motril.es
SUMMARY:La alcaldesa de Motril\, Luisa García Chamorro\, junto a la concejal de Patrimonio Industrial del Azúcar\, Madelín Banqueri\, presentan el ciclo de conferencias ‘Patrimonio industrial del azúcar de Motril: pasado\, presente y futuro’
DESCRIPTION:
URL:https://transparencia.motril.es/evento/la-alcaldesa-de-motril-luisa-garcia-chamorro-junto-a-la-concejal-de-patrimonio-industrial-del-azucar-madelin-banqueri-presentan-el-ciclo-de-conferencias-patrimonio-industrial-del-azucar-d/
END:VEVENT
BEGIN:VEVENT
DTSTART;TZID=UTC:20230227T120000
DTEND;TZID=UTC:20230227T120000
DTSTAMP:20260424T014628
CREATED:20230224T122254Z
LAST-MODIFIED:20230224T122254Z
UID:6099-1677499200-1677499200@transparencia.motril.es
SUMMARY:La alcaldesa de Motril\, Luisa García Chamorro\, junto a la concejal de Comercio\, Susana Peña\, visitan la tienda Comercial Mosabe
DESCRIPTION:
URL:https://transparencia.motril.es/evento/la-alcaldesa-de-motril-luisa-garcia-chamorro-junto-a-la-concejal-de-comercio-susana-pena-visitan-la-tienda-comercial-mosabe/
LOCATION:Calle Ernesto Mira
END:VEVENT
END:VCALENDAR