BEGIN:VCALENDAR
VERSION:2.0
PRODID:-//Ayuntamiento de Motril. Transparencia - ECPv6.15.20//NONSGML v1.0//EN
CALSCALE:GREGORIAN
METHOD:PUBLISH
X-WR-CALNAME:Ayuntamiento de Motril. Transparencia
X-ORIGINAL-URL:https://transparencia.motril.es
X-WR-CALDESC:Eventos para Ayuntamiento de Motril. Transparencia
REFRESH-INTERVAL;VALUE=DURATION:PT1H
X-Robots-Tag:noindex
X-PUBLISHED-TTL:PT1H
BEGIN:VTIMEZONE
TZID:UTC
BEGIN:STANDARD
TZOFFSETFROM:+0000
TZOFFSETTO:+0000
TZNAME:UTC
DTSTART:20220101T000000
END:STANDARD
END:VTIMEZONE
BEGIN:VEVENT
DTSTART;TZID=UTC:20230224T093000
DTEND;TZID=UTC:20230224T093000
DTSTAMP:20260424T014628
CREATED:20230223T130913Z
LAST-MODIFIED:20230223T130913Z
UID:6079-1677231000-1677231000@transparencia.motril.es
SUMMARY:La corporación municipal celebra pleno ordinario
DESCRIPTION:
URL:https://transparencia.motril.es/evento/la-corporacion-municipal-celebra-pleno-ordinario-4/
CATEGORIES:Pleno
END:VEVENT
BEGIN:VEVENT
DTSTART;TZID=UTC:20230224T120000
DTEND;TZID=UTC:20230224T120000
DTSTAMP:20260424T014628
CREATED:20230223T130958Z
LAST-MODIFIED:20230223T130958Z
UID:6081-1677240000-1677240000@transparencia.motril.es
SUMMARY:La alcaldesa de Motril\, Luisa García Chamorro\, junto al equipo de gobierno y miembros de la corporación municipal\, asisten al minuto de silencio con el que se muestra el rechazo a la situación que vive Ucrania desde que hace un año comenzaran los bombardeos
DESCRIPTION:
URL:https://transparencia.motril.es/evento/la-alcaldesa-de-motril-luisa-garcia-chamorro-junto-al-equipo-de-gobierno-y-miembros-de-la-corporacion-municipal-asisten-al-minuto-de-silencio-con-el-que-se-muestra-el-rechazo-a-la-situacion-que-viv/
CATEGORIES:Actos
END:VEVENT
BEGIN:VEVENT
DTSTART;TZID=UTC:20230224T140000
DTEND;TZID=UTC:20230224T140000
DTSTAMP:20260424T014628
CREATED:20230223T131047Z
LAST-MODIFIED:20230223T131047Z
UID:6083-1677247200-1677247200@transparencia.motril.es
SUMMARY:La alcaldesa de Motril\, Luisa García Chamorro\, asiste al almuerzo solidario que organiza el Centro Santo Rosario
DESCRIPTION:
URL:https://transparencia.motril.es/evento/la-alcaldesa-de-motril-luisa-garcia-chamorro-asiste-al-almuerzo-solidario-que-organiza-el-centro-santo-rosario/
CATEGORIES:Actos
END:VEVENT
BEGIN:VEVENT
DTSTART;TZID=UTC:20230224T200000
DTEND;TZID=UTC:20230224T200000
DTSTAMP:20260424T014628
CREATED:20230223T131205Z
LAST-MODIFIED:20230223T131205Z
UID:6085-1677268800-1677268800@transparencia.motril.es
SUMMARY:La alcaldesa de Motril\, Luisa García Chamorro\, asiste a la exposición de la Academia Manolo Jiménez en el Real Club Náutico
DESCRIPTION:
URL:https://transparencia.motril.es/evento/la-alcaldesa-de-motril-luisa-garcia-chamorro-asiste-a-la-exposicion-de-la-academia-manolo-jimenez-en-el-real-club-nautico/
CATEGORIES:Actos
END:VEVENT
BEGIN:VEVENT
DTSTART;TZID=UTC:20230224T203000
DTEND;TZID=UTC:20230224T203000
DTSTAMP:20260424T014628
CREATED:20230223T131256Z
LAST-MODIFIED:20230223T131256Z
UID:6087-1677270600-1677270600@transparencia.motril.es
SUMMARY:La alcaldesa de Motril\, Luisa García Chamorro\, asiste al Vía Crucis oficial de la Semana Santa de Motril
DESCRIPTION:
URL:https://transparencia.motril.es/evento/la-alcaldesa-de-motril-luisa-garcia-chamorro-asiste-al-via-crucis-oficial-de-la-semana-santa-de-motril/
CATEGORIES:Actos
END:VEVENT
END:VCALENDAR