BEGIN:VCALENDAR
VERSION:2.0
PRODID:-//Ayuntamiento de Motril. Transparencia - ECPv6.15.20//NONSGML v1.0//EN
CALSCALE:GREGORIAN
METHOD:PUBLISH
X-ORIGINAL-URL:https://transparencia.motril.es
X-WR-CALDESC:Eventos para Ayuntamiento de Motril. Transparencia
REFRESH-INTERVAL;VALUE=DURATION:PT1H
X-Robots-Tag:noindex
X-PUBLISHED-TTL:PT1H
BEGIN:VTIMEZONE
TZID:UTC
BEGIN:STANDARD
TZOFFSETFROM:+0000
TZOFFSETTO:+0000
TZNAME:UTC
DTSTART:20220101T000000
END:STANDARD
END:VTIMEZONE
BEGIN:VEVENT
DTSTART;TZID=UTC:20230223T093000
DTEND;TZID=UTC:20230223T093000
DTSTAMP:20260424T014635
CREATED:20230222T130228Z
LAST-MODIFIED:20230222T130228Z
UID:6065-1677144600-1677144600@transparencia.motril.es
SUMMARY:La alcaldesa de Motril\, Luisa García Chamorro\, junto a la teniente de alcalde de Igualdad\, Inmaculada Torres\, saludan a las asistentes al Consejo Municipal de la Mujer
DESCRIPTION:
URL:https://transparencia.motril.es/evento/la-alcaldesa-de-motril-luisa-garcia-chamorro-junto-a-la-teniente-de-alcalde-de-igualdad-inmaculada-torres-saludan-a-las-asistentes-al-consejo-municipal-de-la-mujer/
CATEGORIES:Acción Social,Actos
END:VEVENT
BEGIN:VEVENT
DTSTART;TZID=UTC:20230223T100000
DTEND;TZID=UTC:20230223T100000
DTSTAMP:20260424T014635
CREATED:20230222T130317Z
LAST-MODIFIED:20230222T130317Z
UID:6067-1677146400-1677146400@transparencia.motril.es
SUMMARY:La alcaldesa de Motril\, Luisa García Chamorro\, junto a la teniente de alcalde de Igualdad\, Inmaculada Torres\, la concejala de Comercio\, Susana Peña y la CEO de Combo Comunicación\, María José Segura\, presentan los I Premios de Emprendimiento Femenino Costa Tropical
DESCRIPTION:
URL:https://transparencia.motril.es/evento/la-alcaldesa-de-motril-luisa-garcia-chamorro-junto-a-la-teniente-de-alcalde-de-igualdad-inmaculada-torres-la-concejala-de-comercio-susana-pena-y-la-ceo-de-combo-comunicacion-maria-jose-segura-p/
CATEGORIES:Actos
END:VEVENT
BEGIN:VEVENT
DTSTART;TZID=UTC:20230223T113000
DTEND;TZID=UTC:20230223T113000
DTSTAMP:20260424T014635
CREATED:20230222T130416Z
LAST-MODIFIED:20230222T130416Z
UID:6069-1677151800-1677151800@transparencia.motril.es
SUMMARY:La alcaldesa de Motril\, Luisa García Chamorro\, asiste a la primera piedra de las marquesinas fotovoltaicas en el Puerto de Motril
DESCRIPTION:
URL:https://transparencia.motril.es/evento/la-alcaldesa-de-motril-luisa-garcia-chamorro-asiste-a-la-primera-piedra-de-las-marquesinas-fotovoltaicas-en-el-puerto-de-motril/
CATEGORIES:Actos
END:VEVENT
BEGIN:VEVENT
DTSTART;TZID=UTC:20230223T123000
DTEND;TZID=UTC:20230223T123000
DTSTAMP:20260424T014635
CREATED:20230222T130702Z
LAST-MODIFIED:20230222T130702Z
UID:6072-1677155400-1677155400@transparencia.motril.es
SUMMARY:Reunión interna
DESCRIPTION:
URL:https://transparencia.motril.es/evento/reunion-interna-197/
CATEGORIES:Reunión
END:VEVENT
BEGIN:VEVENT
DTSTART;TZID=UTC:20230223T133000
DTEND;TZID=UTC:20230223T133000
DTSTAMP:20260424T014635
CREATED:20230222T130817Z
LAST-MODIFIED:20230222T130817Z
UID:6074-1677159000-1677159000@transparencia.motril.es
SUMMARY:La alcaldesa de Motril\, Luisa García Chamorro\, junto a la concejala de Comercio y consumo\, Susana Peña\, visita el Bar ‘El Renacer’
DESCRIPTION:
URL:https://transparencia.motril.es/evento/la-alcaldesa-de-motril-luisa-garcia-chamorro-junto-a-la-concejala-de-comercio-y-consumo-susana-pena-visita-el-bar-el-renacer/
CATEGORIES:Actos
END:VEVENT
END:VCALENDAR