BEGIN:VCALENDAR
VERSION:2.0
PRODID:-//Ayuntamiento de Motril. Transparencia - ECPv6.15.20//NONSGML v1.0//EN
CALSCALE:GREGORIAN
METHOD:PUBLISH
X-ORIGINAL-URL:https://transparencia.motril.es
X-WR-CALDESC:Eventos para Ayuntamiento de Motril. Transparencia
REFRESH-INTERVAL;VALUE=DURATION:PT1H
X-Robots-Tag:noindex
X-PUBLISHED-TTL:PT1H
BEGIN:VTIMEZONE
TZID:UTC
BEGIN:STANDARD
TZOFFSETFROM:+0000
TZOFFSETTO:+0000
TZNAME:UTC
DTSTART:20220101T000000
END:STANDARD
END:VTIMEZONE
BEGIN:VEVENT
DTSTART;TZID=UTC:20230222T104500
DTEND;TZID=UTC:20230222T104500
DTSTAMP:20260424T014637
CREATED:20230221T112055Z
LAST-MODIFIED:20230221T112136Z
UID:6029-1677062700-1677062700@transparencia.motril.es
SUMMARY:La alcaldesa de Motril\, Luisa García Chamorro\, junto a la teniente de alcalde de Igualdad\, Inmaculada Torres\, asiste a la presentación del VIII Concurso Provincial Araceli Morales
DESCRIPTION:
URL:https://transparencia.motril.es/evento/la-alcaldesa-de-motril-luisa-garcia-chamorro-junto-a-la-teniente-de-alcalde-de-igualdad-inmaculada-torres-asiste-a-la-presentacion-del-viii-concurso-provincial-araceli-morales/
CATEGORIES:Acción Social,Actos
END:VEVENT
BEGIN:VEVENT
DTSTART;TZID=UTC:20230222T113000
DTEND;TZID=UTC:20230222T113000
DTSTAMP:20260424T014637
CREATED:20230221T113029Z
LAST-MODIFIED:20230221T113029Z
UID:6031-1677065400-1677065400@transparencia.motril.es
SUMMARY:La alcaldesa de Motril\, Luisa García Chamorro\, junto al delegado territorial de Desarrollo Sostenible\, Manuel Francisco García Delgado\, asisten a la Comisión mixta de seguimiento de la Reserva Natural Charca de Suárez
DESCRIPTION:
URL:https://transparencia.motril.es/evento/la-alcaldesa-de-motril-luisa-garcia-chamorro-junto-al-delegado-territorial-de-desarrollo-sostenible-manuel-francisco-garcia-delgado-asisten-a-la-comision-mixta-de-seguimiento-de-la-reserva-natural/
CATEGORIES:Actos
END:VEVENT
BEGIN:VEVENT
DTSTART;TZID=UTC:20230222T193000
DTEND;TZID=UTC:20230222T193000
DTSTAMP:20260424T014637
CREATED:20230221T113121Z
LAST-MODIFIED:20230221T113121Z
UID:6033-1677094200-1677094200@transparencia.motril.es
SUMMARY:La alcaldesa de Motril\, Luisa García Chamorro\, asiste a la misa del Miércoles de ceniza en la Iglesia Nuestra Señora de la Cabeza
DESCRIPTION:
URL:https://transparencia.motril.es/evento/la-alcaldesa-de-motril-luisa-garcia-chamorro-asiste-a-la-misa-del-miercoles-de-ceniza-en-la-iglesia-nuestra-senora-de-la-cabeza/
CATEGORIES:Actos
END:VEVENT
END:VCALENDAR