BEGIN:VCALENDAR
VERSION:2.0
PRODID:-//Ayuntamiento de Motril. Transparencia - ECPv6.15.20//NONSGML v1.0//EN
CALSCALE:GREGORIAN
METHOD:PUBLISH
X-ORIGINAL-URL:https://transparencia.motril.es
X-WR-CALDESC:Eventos para Ayuntamiento de Motril. Transparencia
REFRESH-INTERVAL;VALUE=DURATION:PT1H
X-Robots-Tag:noindex
X-PUBLISHED-TTL:PT1H
BEGIN:VTIMEZONE
TZID:UTC
BEGIN:STANDARD
TZOFFSETFROM:+0000
TZOFFSETTO:+0000
TZNAME:UTC
DTSTART:20220101T000000
END:STANDARD
END:VTIMEZONE
BEGIN:VEVENT
DTSTART;TZID=UTC:20230221T093000
DTEND;TZID=UTC:20230221T093000
DTSTAMP:20260424T014749
CREATED:20230221T110410Z
LAST-MODIFIED:20230221T110410Z
UID:6015-1676971800-1676971800@transparencia.motril.es
SUMMARY:Reunión interna
DESCRIPTION:
URL:https://transparencia.motril.es/evento/reunion-interna-192/
CATEGORIES:Reunión
END:VEVENT
BEGIN:VEVENT
DTSTART;TZID=UTC:20230221T103000
DTEND;TZID=UTC:20230221T103000
DTSTAMP:20260424T014749
CREATED:20230221T110445Z
LAST-MODIFIED:20230221T110445Z
UID:6017-1676975400-1676975400@transparencia.motril.es
SUMMARY:Reunión interna
DESCRIPTION:
URL:https://transparencia.motril.es/evento/reunion-interna-193/
CATEGORIES:Reunión
END:VEVENT
BEGIN:VEVENT
DTSTART;TZID=UTC:20230221T113000
DTEND;TZID=UTC:20230221T113000
DTSTAMP:20260424T014749
CREATED:20230221T110244Z
LAST-MODIFIED:20230221T110244Z
UID:6013-1676979000-1676979000@transparencia.motril.es
SUMMARY:La alcaldesa de Motril\, Luisa García Chamorro\, y el concejal de Deportes\, Daniel Ortega\, presentan el Día del Deporte
DESCRIPTION:
URL:https://transparencia.motril.es/evento/la-alcaldesa-de-motril-luisa-garcia-chamorro-y-el-concejal-de-deportes-daniel-ortega-presentan-el-dia-del-deporte/
CATEGORIES:Deportes
END:VEVENT
BEGIN:VEVENT
DTSTART;TZID=UTC:20230221T120000
DTEND;TZID=UTC:20230221T120000
DTSTAMP:20260424T014749
CREATED:20230221T110608Z
LAST-MODIFIED:20230221T110608Z
UID:6019-1676980800-1676980800@transparencia.motril.es
SUMMARY:Reunión interna
DESCRIPTION:
URL:https://transparencia.motril.es/evento/reunion-interna-194/
CATEGORIES:Reunión
END:VEVENT
BEGIN:VEVENT
DTSTART;TZID=UTC:20230221T123000
DTEND;TZID=UTC:20230221T123000
DTSTAMP:20260424T014749
CREATED:20230221T110652Z
LAST-MODIFIED:20230221T110652Z
UID:6021-1676982600-1676982600@transparencia.motril.es
SUMMARY:Reunión interna
DESCRIPTION:
URL:https://transparencia.motril.es/evento/reunion-interna-195/
CATEGORIES:Reunión
END:VEVENT
END:VCALENDAR