BEGIN:VCALENDAR
VERSION:2.0
PRODID:-//Ayuntamiento de Motril. Transparencia - ECPv6.15.20//NONSGML v1.0//EN
CALSCALE:GREGORIAN
METHOD:PUBLISH
X-WR-CALNAME:Ayuntamiento de Motril. Transparencia
X-ORIGINAL-URL:https://transparencia.motril.es
X-WR-CALDESC:Eventos para Ayuntamiento de Motril. Transparencia
REFRESH-INTERVAL;VALUE=DURATION:PT1H
X-Robots-Tag:noindex
X-PUBLISHED-TTL:PT1H
BEGIN:VTIMEZONE
TZID:UTC
BEGIN:STANDARD
TZOFFSETFROM:+0000
TZOFFSETTO:+0000
TZNAME:UTC
DTSTART:20220101T000000
END:STANDARD
END:VTIMEZONE
BEGIN:VEVENT
DTSTART;TZID=UTC:20230216T093000
DTEND;TZID=UTC:20230216T093000
DTSTAMP:20260424T014628
CREATED:20230217T101442Z
LAST-MODIFIED:20230217T101442Z
UID:5989-1676539800-1676539800@transparencia.motril.es
SUMMARY:La alcaldesa de Motril asiste a la Comisión de violencia de género
DESCRIPTION:
URL:https://transparencia.motril.es/evento/la-alcaldesa-de-motril-asiste-a-la-comision-de-violencia-de-genero/
CATEGORIES:Actos
END:VEVENT
BEGIN:VEVENT
DTSTART;TZID=UTC:20230216T120000
DTEND;TZID=UTC:20230216T120000
DTSTAMP:20260424T014628
CREATED:20230217T101545Z
LAST-MODIFIED:20230217T101545Z
UID:5991-1676548800-1676548800@transparencia.motril.es
SUMMARY:La alcaldesa de Motril\, Luisa García Chamorro\, asiste a la formación que reciben los bomberos de nueva incorporación en la Fábrica del Pilar.
DESCRIPTION:
URL:https://transparencia.motril.es/evento/la-alcaldesa-de-motril-luisa-garcia-chamorro-asiste-a-la-formacion-que-reciben-los-bomberos-de-nueva-incorporacion-en-la-fabrica-del-pilar/
CATEGORIES:Actos
END:VEVENT
END:VCALENDAR