BEGIN:VCALENDAR
VERSION:2.0
PRODID:-//Ayuntamiento de Motril. Transparencia - ECPv6.15.20//NONSGML v1.0//EN
CALSCALE:GREGORIAN
METHOD:PUBLISH
X-ORIGINAL-URL:https://transparencia.motril.es
X-WR-CALDESC:Eventos para Ayuntamiento de Motril. Transparencia
REFRESH-INTERVAL;VALUE=DURATION:PT1H
X-Robots-Tag:noindex
X-PUBLISHED-TTL:PT1H
BEGIN:VTIMEZONE
TZID:UTC
BEGIN:STANDARD
TZOFFSETFROM:+0000
TZOFFSETTO:+0000
TZNAME:UTC
DTSTART:20220101T000000
END:STANDARD
END:VTIMEZONE
BEGIN:VEVENT
DTSTART;TZID=UTC:20230215T093000
DTEND;TZID=UTC:20230215T093000
DTSTAMP:20260424T014751
CREATED:20230214T130950Z
LAST-MODIFIED:20230214T130950Z
UID:5976-1676453400-1676453400@transparencia.motril.es
SUMMARY:Reunión interna
DESCRIPTION:
URL:https://transparencia.motril.es/evento/reunion-interna-185/
CATEGORIES:Reunión
END:VEVENT
BEGIN:VEVENT
DTSTART;TZID=UTC:20230215T100000
DTEND;TZID=UTC:20230215T100000
DTSTAMP:20260424T014751
CREATED:20230214T130831Z
LAST-MODIFIED:20230214T130831Z
UID:5972-1676455200-1676455200@transparencia.motril.es
SUMMARY:La alcaldesa de Motril\, Luisa García Chamorro\, saluda a los asistentes a la Jornada formativa de Inmigración dirigida al alumnado y profesorado del Máster de Psicología de la Universidad de Granada
DESCRIPTION:
URL:https://transparencia.motril.es/evento/la-alcaldesa-de-motril-luisa-garcia-chamorro-saluda-a-los-asistentes-a-la-jornada-formativa-de-inmigracion-dirigida-al-alumnado-y-profesorado-del-master-de-psicologia-de-la-universidad-de-granada/
CATEGORIES:Actos
END:VEVENT
BEGIN:VEVENT
DTSTART;TZID=UTC:20230215T103000
DTEND;TZID=UTC:20230215T103000
DTSTAMP:20260424T014751
CREATED:20230214T130916Z
LAST-MODIFIED:20230214T130916Z
UID:5974-1676457000-1676457000@transparencia.motril.es
SUMMARY:La alcaldesa de Motril\, Luisa García Chamorro\, junto a miembros del equipo de gobierno\, recibe a los representantes de la Asociación Sector pesquero granadino 4.0\, con motivo de la presentación del libro ‘Las abuelas del pescao’.
DESCRIPTION:
URL:https://transparencia.motril.es/evento/la-alcaldesa-de-motril-luisa-garcia-chamorro-junto-a-miembros-del-equipo-de-gobierno-recibe-a-los-representantes-de-la-asociacion-sector-pesquero-granadino-4-0-con-motivo-de-la-presentacion-del-li/
CATEGORIES:Actos
END:VEVENT
BEGIN:VEVENT
DTSTART;TZID=UTC:20230215T110000
DTEND;TZID=UTC:20230215T110000
DTSTAMP:20260424T014751
CREATED:20230214T131040Z
LAST-MODIFIED:20230214T131040Z
UID:5978-1676458800-1676458800@transparencia.motril.es
SUMMARY:Reunión interna
DESCRIPTION:
URL:https://transparencia.motril.es/evento/reunion-interna-186/
CATEGORIES:Reunión
END:VEVENT
BEGIN:VEVENT
DTSTART;TZID=UTC:20230215T113000
DTEND;TZID=UTC:20230215T113000
DTSTAMP:20260424T014751
CREATED:20230214T131125Z
LAST-MODIFIED:20230214T131125Z
UID:5980-1676460600-1676460600@transparencia.motril.es
SUMMARY:La alcaldesa de Motril\, Luisa García Chamorro\, junto al concejal de Deportes\, Daniel Ortega y representantes del Club Atletismo Ciudad de Motril y del IES Martín Recuerda presentan la próxima celebración de la actividad Jugando al Atletismo y de la final de los Juegos Escolares de Atletismo en Pista
DESCRIPTION:
URL:https://transparencia.motril.es/evento/la-alcaldesa-de-motril-luisa-garcia-chamorro-junto-al-concejal-de-deportes-daniel-ortega-y-representantes-del-club-atletismo-ciudad-de-motril-y-del-ies-martin-recuerda-presentan-la-proxima-celebrac/
CATEGORIES:Actos,Deportes
END:VEVENT
BEGIN:VEVENT
DTSTART;TZID=UTC:20230215T123000
DTEND;TZID=UTC:20230215T123000
DTSTAMP:20260424T014751
CREATED:20230214T131215Z
LAST-MODIFIED:20230214T131215Z
UID:5982-1676464200-1676464200@transparencia.motril.es
SUMMARY:Reunión interna
DESCRIPTION:
URL:https://transparencia.motril.es/evento/reunion-interna-187/
CATEGORIES:Reunión
END:VEVENT
END:VCALENDAR