BEGIN:VCALENDAR
VERSION:2.0
PRODID:-//Ayuntamiento de Motril. Transparencia - ECPv6.15.20//NONSGML v1.0//EN
CALSCALE:GREGORIAN
METHOD:PUBLISH
X-ORIGINAL-URL:https://transparencia.motril.es
X-WR-CALDESC:Eventos para Ayuntamiento de Motril. Transparencia
REFRESH-INTERVAL;VALUE=DURATION:PT1H
X-Robots-Tag:noindex
X-PUBLISHED-TTL:PT1H
BEGIN:VTIMEZONE
TZID:UTC
BEGIN:STANDARD
TZOFFSETFROM:+0000
TZOFFSETTO:+0000
TZNAME:UTC
DTSTART:20220101T000000
END:STANDARD
END:VTIMEZONE
BEGIN:VEVENT
DTSTART;TZID=UTC:20230131T090000
DTEND;TZID=UTC:20230131T090000
DTSTAMP:20260424T014603
CREATED:20230131T082342Z
LAST-MODIFIED:20230131T082342Z
UID:5868-1675155600-1675155600@transparencia.motril.es
SUMMARY:Reunión interna
DESCRIPTION:
URL:https://transparencia.motril.es/evento/reunion-interna-173/
CATEGORIES:Reunión
END:VEVENT
BEGIN:VEVENT
DTSTART;TZID=UTC:20230131T100000
DTEND;TZID=UTC:20230131T100000
DTSTAMP:20260424T014603
CREATED:20230131T082504Z
LAST-MODIFIED:20230131T082504Z
UID:5870-1675159200-1675159200@transparencia.motril.es
SUMMARY:La alcaldesa de Motril\, Luisa García Chamorro\, y el teniente de alcalde de Turismo\, Desarrollo del Litoral y Playas\, José Lemos\, visitan las actuaciones realizadas en las playas.
DESCRIPTION:
URL:https://transparencia.motril.es/evento/la-alcaldesa-de-motril-luisa-garcia-chamorro-y-el-teniente-de-alcalde-de-turismo-desarrollo-del-litoral-y-playas-jose-lemos-visitan-las-actuaciones-realizadas-en-las-playas/
CATEGORIES:Actos,Turismo
END:VEVENT
BEGIN:VEVENT
DTSTART;TZID=UTC:20230131T110000
DTEND;TZID=UTC:20230131T110000
DTSTAMP:20260424T014603
CREATED:20230131T082741Z
LAST-MODIFIED:20230131T082741Z
UID:5872-1675162800-1675162800@transparencia.motril.es
SUMMARY:La alcaldesa de Motril\, Luisa García Chamorro\, recibe a los deportistas del Real Club Náutico de Natación que han logrado clasificarse para campeonatos de España infantiles
DESCRIPTION:
URL:https://transparencia.motril.es/evento/la-alcaldesa-de-motril-luisa-garcia-chamorro-recibe-a-los-deportistas-del-real-club-nautico-de-natacion-que-han-logrado-clasificarse-para-campeonatos-de-espana-infantiles/
CATEGORIES:Actos,Deportes
END:VEVENT
BEGIN:VEVENT
DTSTART;TZID=UTC:20230131T121500
DTEND;TZID=UTC:20230131T121500
DTSTAMP:20260424T014603
CREATED:20230131T082834Z
LAST-MODIFIED:20230131T082834Z
UID:5874-1675167300-1675167300@transparencia.motril.es
SUMMARY:La alcaldesa de Motril\, Luisa García Chamorro\, y la teniente de alcalde de Acción Social\, Inmaculada Torres\, hacen entrega del cheque recaudado en la paella solidaria de la Feria de las asociaciones a Mariló Almagro\, presidenta de AFA Contigo
DESCRIPTION:
URL:https://transparencia.motril.es/evento/la-alcaldesa-de-motril-luisa-garcia-chamorro-y-la-teniente-de-alcalde-de-accion-social-inmaculada-torres-hacen-entrega-del-cheque-recaudado-en-la-paella-solidaria-de-la-feria-de-las-asociaciones-a/
CATEGORIES:Acción Social,Actos
END:VEVENT
BEGIN:VEVENT
DTSTART;TZID=UTC:20230131T124500
DTEND;TZID=UTC:20230131T124500
DTSTAMP:20260424T014603
CREATED:20230131T083123Z
LAST-MODIFIED:20230131T083123Z
UID:5876-1675169100-1675169100@transparencia.motril.es
SUMMARY:Reunión interna
DESCRIPTION:
URL:https://transparencia.motril.es/evento/reunion-interna-174/
CATEGORIES:Reunión
END:VEVENT
BEGIN:VEVENT
DTSTART;TZID=UTC:20230131T130000
DTEND;TZID=UTC:20230131T130000
DTSTAMP:20260424T014603
CREATED:20230131T083550Z
LAST-MODIFIED:20230131T083550Z
UID:5878-1675170000-1675170000@transparencia.motril.es
SUMMARY:Reunión interna
DESCRIPTION:
URL:https://transparencia.motril.es/evento/reunion-interna-175/
CATEGORIES:Reunión
END:VEVENT
BEGIN:VEVENT
DTSTART;TZID=UTC:20230131T133000
DTEND;TZID=UTC:20230131T133000
DTSTAMP:20260424T014603
CREATED:20230131T083658Z
LAST-MODIFIED:20230131T083658Z
UID:5880-1675171800-1675171800@transparencia.motril.es
SUMMARY:Reunión interna
DESCRIPTION:
URL:https://transparencia.motril.es/evento/reunion-interna-176/
CATEGORIES:Reunión
END:VEVENT
END:VCALENDAR