BEGIN:VCALENDAR
VERSION:2.0
PRODID:-//Ayuntamiento de Motril. Transparencia - ECPv6.15.20//NONSGML v1.0//EN
CALSCALE:GREGORIAN
METHOD:PUBLISH
X-WR-CALNAME:Ayuntamiento de Motril. Transparencia
X-ORIGINAL-URL:https://transparencia.motril.es
X-WR-CALDESC:Eventos para Ayuntamiento de Motril. Transparencia
REFRESH-INTERVAL;VALUE=DURATION:PT1H
X-Robots-Tag:noindex
X-PUBLISHED-TTL:PT1H
BEGIN:VTIMEZONE
TZID:UTC
BEGIN:STANDARD
TZOFFSETFROM:+0000
TZOFFSETTO:+0000
TZNAME:UTC
DTSTART:20220101T000000
END:STANDARD
END:VTIMEZONE
BEGIN:VEVENT
DTSTART;TZID=UTC:20230130T100000
DTEND;TZID=UTC:20230130T100000
DTSTAMP:20260424T081929
CREATED:20230127T123231Z
LAST-MODIFIED:20230127T123231Z
UID:5860-1675072800-1675072800@transparencia.motril.es
SUMMARY:Reunión interna
DESCRIPTION:
URL:https://transparencia.motril.es/evento/reunion-interna-170/
CATEGORIES:Reunión
END:VEVENT
BEGIN:VEVENT
DTSTART;TZID=UTC:20230130T110000
DTEND;TZID=UTC:20230130T110000
DTSTAMP:20260424T081929
CREATED:20230127T123313Z
LAST-MODIFIED:20230127T123313Z
UID:5862-1675076400-1675076400@transparencia.motril.es
SUMMARY:Reunión interna
DESCRIPTION:
URL:https://transparencia.motril.es/evento/reunion-interna-171/
CATEGORIES:Reunión
END:VEVENT
BEGIN:VEVENT
DTSTART;TZID=UTC:20230130T113000
DTEND;TZID=UTC:20230130T113000
DTSTAMP:20260424T081929
CREATED:20230127T123140Z
LAST-MODIFIED:20230127T123140Z
UID:5858-1675078200-1675078200@transparencia.motril.es
SUMMARY:La alcaldesa de Motril\, Luisa García Chamorro\, junto a miembros del equipo de gobierno\, visita las obras de la Fábrica del Pilar.
DESCRIPTION:
URL:https://transparencia.motril.es/evento/la-alcaldesa-de-motril-luisa-garcia-chamorro-junto-a-miembros-del-equipo-de-gobierno-visita-las-obras-de-la-fabrica-del-pilar/
CATEGORIES:Actos
END:VEVENT
BEGIN:VEVENT
DTSTART;TZID=UTC:20230130T130000
DTEND;TZID=UTC:20230130T130000
DTSTAMP:20260424T081929
CREATED:20230127T123402Z
LAST-MODIFIED:20230127T123402Z
UID:5864-1675083600-1675083600@transparencia.motril.es
SUMMARY:Reunión interna
DESCRIPTION:
URL:https://transparencia.motril.es/evento/reunion-interna-172/
CATEGORIES:Reunión
END:VEVENT
END:VCALENDAR