BEGIN:VCALENDAR
VERSION:2.0
PRODID:-//Ayuntamiento de Motril. Transparencia - ECPv6.15.20//NONSGML v1.0//EN
CALSCALE:GREGORIAN
METHOD:PUBLISH
X-WR-CALNAME:Ayuntamiento de Motril. Transparencia
X-ORIGINAL-URL:https://transparencia.motril.es
X-WR-CALDESC:Eventos para Ayuntamiento de Motril. Transparencia
REFRESH-INTERVAL;VALUE=DURATION:PT1H
X-Robots-Tag:noindex
X-PUBLISHED-TTL:PT1H
BEGIN:VTIMEZONE
TZID:UTC
BEGIN:STANDARD
TZOFFSETFROM:+0000
TZOFFSETTO:+0000
TZNAME:UTC
DTSTART:20220101T000000
END:STANDARD
END:VTIMEZONE
BEGIN:VEVENT
DTSTART;TZID=UTC:20230125T100000
DTEND;TZID=UTC:20230125T100000
DTSTAMP:20260424T032733
CREATED:20230124T120204Z
LAST-MODIFIED:20230124T120235Z
UID:5812-1674640800-1674640800@transparencia.motril.es
SUMMARY:La alcaldesa de Motril\, Luisa García Chamorro\, presenta el libro de María Jesús Moral\, ‘Una bruja sin verruga’
DESCRIPTION:
URL:https://transparencia.motril.es/evento/la-alcaldesa-de-motril-luisa-garcia-chamorro-presenta-el-libro-de-maria-jesus-moral-una-bruja-sin-verruga/
CATEGORIES:Actos,Cultura
END:VEVENT
BEGIN:VEVENT
DTSTART;TZID=UTC:20230125T110000
DTEND;TZID=UTC:20230125T110000
DTSTAMP:20260424T032733
CREATED:20230124T120519Z
LAST-MODIFIED:20230124T120519Z
UID:5816-1674644400-1674644400@transparencia.motril.es
SUMMARY:Reunión interna
DESCRIPTION:
URL:https://transparencia.motril.es/evento/reunion-interna-166/
CATEGORIES:Reunión
END:VEVENT
BEGIN:VEVENT
DTSTART;TZID=UTC:20230125T120000
DTEND;TZID=UTC:20230125T170000
DTSTAMP:20260424T032733
CREATED:20230124T120314Z
LAST-MODIFIED:20230124T120314Z
UID:5814-1674648000-1674666000@transparencia.motril.es
SUMMARY:La alcaldesa de Motril\, Luisa García Chamorro\, junto a varios miembros del equipo de gobierno\, visita la calle la Posta\, donde se ha ubicado el nuevo contenedor de tapones solidario
DESCRIPTION:
URL:https://transparencia.motril.es/evento/la-alcaldesa-de-motril-luisa-garcia-chamorro-junto-a-varios-miembros-del-equipo-de-gobierno-visita-la-calle-la-posta-donde-se-ha-ubicado-el-nuevo-contenedor-de-tapones-solidario/
CATEGORIES:Actos
END:VEVENT
BEGIN:VEVENT
DTSTART;TZID=UTC:20230125T130000
DTEND;TZID=UTC:20230125T130000
DTSTAMP:20260424T032733
CREATED:20230124T120859Z
LAST-MODIFIED:20230124T120859Z
UID:5818-1674651600-1674651600@transparencia.motril.es
SUMMARY:Reunión interna
DESCRIPTION:
URL:https://transparencia.motril.es/evento/reunion-interna-167/
CATEGORIES:Reunión
END:VEVENT
END:VCALENDAR