BEGIN:VCALENDAR
VERSION:2.0
PRODID:-//Ayuntamiento de Motril. Transparencia - ECPv6.15.20//NONSGML v1.0//EN
CALSCALE:GREGORIAN
METHOD:PUBLISH
X-WR-CALNAME:Ayuntamiento de Motril. Transparencia
X-ORIGINAL-URL:https://transparencia.motril.es
X-WR-CALDESC:Eventos para Ayuntamiento de Motril. Transparencia
REFRESH-INTERVAL;VALUE=DURATION:PT1H
X-Robots-Tag:noindex
X-PUBLISHED-TTL:PT1H
BEGIN:VTIMEZONE
TZID:UTC
BEGIN:STANDARD
TZOFFSETFROM:+0000
TZOFFSETTO:+0000
TZNAME:UTC
DTSTART:20220101T000000
END:STANDARD
END:VTIMEZONE
BEGIN:VEVENT
DTSTART;TZID=UTC:20230123T100000
DTEND;TZID=UTC:20230123T100000
DTSTAMP:20260424T032617
CREATED:20230120T131145Z
LAST-MODIFIED:20230120T131145Z
UID:5786-1674468000-1674468000@transparencia.motril.es
SUMMARY:La alcaldesa de Motril\, Luisa García Chamorro\, asiste a la visita de las obras de la Plaza Primero de Mayo.
DESCRIPTION:
URL:https://transparencia.motril.es/evento/la-alcaldesa-de-motril-luisa-garcia-chamorro-asiste-a-la-visita-de-las-obras-de-la-plaza-primero-de-mayo/
CATEGORIES:Actos,Obras
END:VEVENT
BEGIN:VEVENT
DTSTART;TZID=UTC:20230123T110000
DTEND;TZID=UTC:20230123T110000
DTSTAMP:20260424T032617
CREATED:20230120T131251Z
LAST-MODIFIED:20230120T131251Z
UID:5788-1674471600-1674471600@transparencia.motril.es
SUMMARY:Reunión interna
DESCRIPTION:
URL:https://transparencia.motril.es/evento/reunion-interna-160/
CATEGORIES:Reunión
END:VEVENT
BEGIN:VEVENT
DTSTART;TZID=UTC:20230123T120000
DTEND;TZID=UTC:20230123T120000
DTSTAMP:20260424T032617
CREATED:20230120T131328Z
LAST-MODIFIED:20230120T131328Z
UID:5790-1674475200-1674475200@transparencia.motril.es
SUMMARY:Reunión interna
DESCRIPTION:
URL:https://transparencia.motril.es/evento/reunion-interna-161/
CATEGORIES:Reunión
END:VEVENT
BEGIN:VEVENT
DTSTART;TZID=UTC:20230123T130000
DTEND;TZID=UTC:20230123T130000
DTSTAMP:20260424T032617
CREATED:20230120T131522Z
LAST-MODIFIED:20230120T131522Z
UID:5792-1674478800-1674478800@transparencia.motril.es
SUMMARY:Reunión interna
DESCRIPTION:
URL:https://transparencia.motril.es/evento/reunion-interna-162/
CATEGORIES:Reunión
END:VEVENT
END:VCALENDAR