BEGIN:VCALENDAR
VERSION:2.0
PRODID:-//Ayuntamiento de Motril. Transparencia - ECPv6.15.20//NONSGML v1.0//EN
CALSCALE:GREGORIAN
METHOD:PUBLISH
X-ORIGINAL-URL:https://transparencia.motril.es
X-WR-CALDESC:Eventos para Ayuntamiento de Motril. Transparencia
REFRESH-INTERVAL;VALUE=DURATION:PT1H
X-Robots-Tag:noindex
X-PUBLISHED-TTL:PT1H
BEGIN:VTIMEZONE
TZID:UTC
BEGIN:STANDARD
TZOFFSETFROM:+0000
TZOFFSETTO:+0000
TZNAME:UTC
DTSTART:20220101T000000
END:STANDARD
END:VTIMEZONE
BEGIN:VEVENT
DTSTART;TZID=UTC:20230120T100000
DTEND;TZID=UTC:20230120T100000
DTSTAMP:20260424T032857
CREATED:20230119T171840Z
LAST-MODIFIED:20230119T171840Z
UID:5716-1674208800-1674208800@transparencia.motril.es
SUMMARY:La alcaldesa de Motril\, Luisa García Chamorro\, junto al presidente de la Agrupación de Hermandades y Cofradías de Semana Santa\, Manuel Terrón\, presentan la próxima edición de Feriarco
DESCRIPTION:
URL:https://transparencia.motril.es/evento/la-alcaldesa-de-motril-luisa-garcia-chamorro-junto-al-presidente-de-la-agrupacion-de-hermandades-y-cofradias-de-semana-santa-manuel-terron-presentan-la-proxima-edicion-de-feriarco/
CATEGORIES:Rueda de prensa
END:VEVENT
BEGIN:VEVENT
DTSTART;TZID=UTC:20230120T110000
DTEND;TZID=UTC:20230120T110000
DTSTAMP:20260424T032857
CREATED:20230119T171937Z
LAST-MODIFIED:20230119T171937Z
UID:5776-1674212400-1674212400@transparencia.motril.es
SUMMARY:La alcaldesa de Motril\, Luisa García Chamorro\, visita el Mercado municipal para presentar la nueva adquisición de un desfibrilador
DESCRIPTION:
URL:https://transparencia.motril.es/evento/la-alcaldesa-de-motril-luisa-garcia-chamorro-visita-el-mercado-municipal-para-presentar-la-nueva-adquisicion-de-un-desfibrilador/
CATEGORIES:Actos
END:VEVENT
BEGIN:VEVENT
DTSTART;TZID=UTC:20230120T114500
DTEND;TZID=UTC:20230120T114500
DTSTAMP:20260424T032857
CREATED:20230119T172110Z
LAST-MODIFIED:20230119T172110Z
UID:5778-1674215100-1674215100@transparencia.motril.es
SUMMARY:La alcaldesa de Motril\, Luisa García Chamorro\, visita el Centro de Belleza Dori.
DESCRIPTION:
URL:https://transparencia.motril.es/evento/la-alcaldesa-de-motril-luisa-garcia-chamorro-visita-el-centro-de-belleza-dori/
CATEGORIES:Actos
END:VEVENT
BEGIN:VEVENT
DTSTART;TZID=UTC:20230120T123000
DTEND;TZID=UTC:20230120T123000
DTSTAMP:20260424T032857
CREATED:20230119T172525Z
LAST-MODIFIED:20230119T172525Z
UID:5782-1674217800-1674217800@transparencia.motril.es
SUMMARY:Reunión interna
DESCRIPTION:
URL:https://transparencia.motril.es/evento/reunion-interna-159/
CATEGORIES:Reunión
END:VEVENT
BEGIN:VEVENT
DTSTART;TZID=UTC:20230120T210000
DTEND;TZID=UTC:20230120T210000
DTSTAMP:20260424T032857
CREATED:20230119T172200Z
LAST-MODIFIED:20230119T172200Z
UID:5780-1674248400-1674248400@transparencia.motril.es
SUMMARY:La alcaldesa de Motril\, Luisa García Chamorro\, asiste al concierto de José Antonio García dentro de su gira 2023
DESCRIPTION:
URL:https://transparencia.motril.es/evento/la-alcaldesa-de-motril-luisa-garcia-chamorro-asiste-al-concierto-de-jose-antonio-garcia-dentro-de-su-gira-2023/
CATEGORIES:Cultura
END:VEVENT
END:VCALENDAR