BEGIN:VCALENDAR
VERSION:2.0
PRODID:-//Ayuntamiento de Motril. Transparencia - ECPv6.15.20//NONSGML v1.0//EN
CALSCALE:GREGORIAN
METHOD:PUBLISH
X-ORIGINAL-URL:https://transparencia.motril.es
X-WR-CALDESC:Eventos para Ayuntamiento de Motril. Transparencia
REFRESH-INTERVAL;VALUE=DURATION:PT1H
X-Robots-Tag:noindex
X-PUBLISHED-TTL:PT1H
BEGIN:VTIMEZONE
TZID:UTC
BEGIN:STANDARD
TZOFFSETFROM:+0000
TZOFFSETTO:+0000
TZNAME:UTC
DTSTART:20220101T000000
END:STANDARD
END:VTIMEZONE
BEGIN:VEVENT
DTSTART;TZID=UTC:20230117T100000
DTEND;TZID=UTC:20230117T100000
DTSTAMP:20260424T032828
CREATED:20230116T172117Z
LAST-MODIFIED:20230116T172117Z
UID:5689-1673949600-1673949600@transparencia.motril.es
SUMMARY:Reunión interna
DESCRIPTION:
URL:https://transparencia.motril.es/evento/reunion-interna-156/
CATEGORIES:Reunión
END:VEVENT
BEGIN:VEVENT
DTSTART;TZID=UTC:20230117T101500
DTEND;TZID=UTC:20230117T101500
DTSTAMP:20260424T032828
CREATED:20230116T172310Z
LAST-MODIFIED:20230116T172310Z
UID:5691-1673950500-1673950500@transparencia.motril.es
SUMMARY:Reunión interna
DESCRIPTION:
URL:https://transparencia.motril.es/evento/reunion-interna-157/
CATEGORIES:Reunión
END:VEVENT
BEGIN:VEVENT
DTSTART;TZID=UTC:20230117T110000
DTEND;TZID=UTC:20230117T110000
DTSTAMP:20260424T032828
CREATED:20230116T172411Z
LAST-MODIFIED:20230116T172411Z
UID:5693-1673953200-1673953200@transparencia.motril.es
SUMMARY:Reunión interna
DESCRIPTION:
URL:https://transparencia.motril.es/evento/reunion-interna-158/
CATEGORIES:Reunión
END:VEVENT
END:VCALENDAR