BEGIN:VCALENDAR
VERSION:2.0
PRODID:-//Ayuntamiento de Motril. Transparencia - ECPv6.15.20//NONSGML v1.0//EN
CALSCALE:GREGORIAN
METHOD:PUBLISH
X-WR-CALNAME:Ayuntamiento de Motril. Transparencia
X-ORIGINAL-URL:https://transparencia.motril.es
X-WR-CALDESC:Eventos para Ayuntamiento de Motril. Transparencia
REFRESH-INTERVAL;VALUE=DURATION:PT1H
X-Robots-Tag:noindex
X-PUBLISHED-TTL:PT1H
BEGIN:VTIMEZONE
TZID:UTC
BEGIN:STANDARD
TZOFFSETFROM:+0000
TZOFFSETTO:+0000
TZNAME:UTC
DTSTART:20220101T000000
END:STANDARD
END:VTIMEZONE
BEGIN:VEVENT
DTSTART;TZID=UTC:20230110T100000
DTEND;TZID=UTC:20230110T100000
DTSTAMP:20260424T032614
CREATED:20230109T132916Z
LAST-MODIFIED:20230109T132916Z
UID:5652-1673344800-1673344800@transparencia.motril.es
SUMMARY:La alcaldesa de Motril visita las obras de la calle Santísimo
DESCRIPTION:
URL:https://transparencia.motril.es/evento/la-alcaldesa-de-motril-visita-las-obras-de-la-calle-santisimo/
LOCATION:Calle Santísimo
END:VEVENT
BEGIN:VEVENT
DTSTART;TZID=UTC:20230110T110000
DTEND;TZID=UTC:20230110T110000
DTSTAMP:20260424T032614
CREATED:20230109T133006Z
LAST-MODIFIED:20230109T133006Z
UID:5656-1673348400-1673348400@transparencia.motril.es
SUMMARY:Reunión interna
DESCRIPTION:
URL:https://transparencia.motril.es/evento/reunion-interna-154/
END:VEVENT
END:VCALENDAR