BEGIN:VCALENDAR
VERSION:2.0
PRODID:-//Ayuntamiento de Motril. Transparencia - ECPv6.15.20//NONSGML v1.0//EN
CALSCALE:GREGORIAN
METHOD:PUBLISH
X-WR-CALNAME:Ayuntamiento de Motril. Transparencia
X-ORIGINAL-URL:https://transparencia.motril.es
X-WR-CALDESC:Eventos para Ayuntamiento de Motril. Transparencia
REFRESH-INTERVAL;VALUE=DURATION:PT1H
X-Robots-Tag:noindex
X-PUBLISHED-TTL:PT1H
BEGIN:VTIMEZONE
TZID:UTC
BEGIN:STANDARD
TZOFFSETFROM:+0000
TZOFFSETTO:+0000
TZNAME:UTC
DTSTART:20210101T000000
END:STANDARD
END:VTIMEZONE
BEGIN:VEVENT
DTSTART;TZID=UTC:20221227T100000
DTEND;TZID=UTC:20221227T100000
DTSTAMP:20260424T032728
CREATED:20221222T125614Z
LAST-MODIFIED:20221222T125614Z
UID:5578-1672135200-1672135200@transparencia.motril.es
SUMMARY:La alcaldesa de Motril\, Luisa García Chamorro\, asiste a la inauguración de Wiber Play
DESCRIPTION:
URL:https://transparencia.motril.es/evento/la-alcaldesa-de-motril-luisa-garcia-chamorro-asiste-a-la-inauguracion-de-wiber-play/
CATEGORIES:Actos
END:VEVENT
BEGIN:VEVENT
DTSTART;TZID=UTC:20221227T120000
DTEND;TZID=UTC:20221227T120000
DTSTAMP:20260424T032728
CREATED:20221222T125715Z
LAST-MODIFIED:20221222T125715Z
UID:5580-1672142400-1672142400@transparencia.motril.es
SUMMARY:La alcaldesa de Motril\, Luisa García Chamorro\, asiste a la proyección del cine ‘Clásicos de Navidad. Klaus’
DESCRIPTION:
URL:https://transparencia.motril.es/evento/la-alcaldesa-de-motril-luisa-garcia-chamorro-asiste-a-la-proyeccion-del-cine-clasicos-de-navidad-klaus/
CATEGORIES:Actos
END:VEVENT
BEGIN:VEVENT
DTSTART;TZID=UTC:20221227T173000
DTEND;TZID=UTC:20221227T173000
DTSTAMP:20260424T032728
CREATED:20221222T125812Z
LAST-MODIFIED:20221222T125923Z
UID:5582-1672162200-1672162200@transparencia.motril.es
SUMMARY:La alcaldesa de Motril\, Luisa García Chamorro\, asiste a la salida del pasacalles Dream World
DESCRIPTION:
URL:https://transparencia.motril.es/evento/la-alcaldesa-de-motril-luisa-garcia-chamorro-asiste-a-la-salida-del-pasacalles-dream-world/
CATEGORIES:Actos
END:VEVENT
BEGIN:VEVENT
DTSTART;TZID=UTC:20221227T183000
DTEND;TZID=UTC:20221227T183000
DTSTAMP:20260424T032728
CREATED:20221222T130214Z
LAST-MODIFIED:20221222T130214Z
UID:5584-1672165800-1672165800@transparencia.motril.es
SUMMARY:La alcaldesa de Motril\, Luisa García Chamorro\, acude a ver a los carteros reales.
DESCRIPTION:
URL:https://transparencia.motril.es/evento/la-alcaldesa-de-motril-luisa-garcia-chamorro-acude-a-ver-a-los-carteros-reales/
CATEGORIES:Actos
END:VEVENT
END:VCALENDAR