BEGIN:VCALENDAR
VERSION:2.0
PRODID:-//Ayuntamiento de Motril. Transparencia - ECPv6.15.20//NONSGML v1.0//EN
CALSCALE:GREGORIAN
METHOD:PUBLISH
X-ORIGINAL-URL:https://transparencia.motril.es
X-WR-CALDESC:Eventos para Ayuntamiento de Motril. Transparencia
REFRESH-INTERVAL;VALUE=DURATION:PT1H
X-Robots-Tag:noindex
X-PUBLISHED-TTL:PT1H
BEGIN:VTIMEZONE
TZID:UTC
BEGIN:STANDARD
TZOFFSETFROM:+0000
TZOFFSETTO:+0000
TZNAME:UTC
DTSTART:20210101T000000
END:STANDARD
END:VTIMEZONE
BEGIN:VEVENT
DTSTART;TZID=UTC:20221220T093000
DTEND;TZID=UTC:20221220T093000
DTSTAMP:20260424T050740
CREATED:20221219T131900Z
LAST-MODIFIED:20221219T131900Z
UID:5526-1671528600-1671528600@transparencia.motril.es
SUMMARY:La alcaldesa de Motril\, Luisa García Chamorro\, asiste al primer Encuentro de apadrinamiento de playas.
DESCRIPTION:
URL:https://transparencia.motril.es/evento/la-alcaldesa-de-motril-luisa-garcia-chamorro-asiste-al-primer-encuentro-de-apadrinamiento-de-playas/
CATEGORIES:Actos
END:VEVENT
BEGIN:VEVENT
DTSTART;TZID=UTC:20221220T110000
DTEND;TZID=UTC:20221220T110000
DTSTAMP:20260424T050740
CREATED:20221219T132011Z
LAST-MODIFIED:20221219T132011Z
UID:5528-1671534000-1671534000@transparencia.motril.es
SUMMARY:La alcaldesa de Motril\, Luisa García Chamorro\, junto a miembros del equipo de gobierno\, asiste al Encuentro joven 2022
DESCRIPTION:
URL:https://transparencia.motril.es/evento/la-alcaldesa-de-motril-luisa-garcia-chamorro-junto-a-miembros-del-equipo-de-gobierno-asiste-al-encuentro-joven-2022/
CATEGORIES:Actos
END:VEVENT
BEGIN:VEVENT
DTSTART;TZID=UTC:20221220T120000
DTEND;TZID=UTC:20221220T120000
DTSTAMP:20260424T050740
CREATED:20221219T132502Z
LAST-MODIFIED:20221219T132502Z
UID:5530-1671537600-1671537600@transparencia.motril.es
SUMMARY:Reunión interna
DESCRIPTION:
URL:https://transparencia.motril.es/evento/reunion-interna-150/
CATEGORIES:Reunión
END:VEVENT
BEGIN:VEVENT
DTSTART;TZID=UTC:20221220T130000
DTEND;TZID=UTC:20221220T130000
DTSTAMP:20260424T050740
CREATED:20221219T132638Z
LAST-MODIFIED:20221219T132638Z
UID:5532-1671541200-1671541200@transparencia.motril.es
SUMMARY:Reunión interna
DESCRIPTION:
URL:https://transparencia.motril.es/evento/reunion-interna-151/
CATEGORIES:Reunión
END:VEVENT
END:VCALENDAR