BEGIN:VCALENDAR
VERSION:2.0
PRODID:-//Ayuntamiento de Motril. Transparencia - ECPv6.15.20//NONSGML v1.0//EN
CALSCALE:GREGORIAN
METHOD:PUBLISH
X-ORIGINAL-URL:https://transparencia.motril.es
X-WR-CALDESC:Eventos para Ayuntamiento de Motril. Transparencia
REFRESH-INTERVAL;VALUE=DURATION:PT1H
X-Robots-Tag:noindex
X-PUBLISHED-TTL:PT1H
BEGIN:VTIMEZONE
TZID:UTC
BEGIN:STANDARD
TZOFFSETFROM:+0000
TZOFFSETTO:+0000
TZNAME:UTC
DTSTART:20210101T000000
END:STANDARD
END:VTIMEZONE
BEGIN:VEVENT
DTSTART;TZID=UTC:20221214T091500
DTEND;TZID=UTC:20221214T091500
DTSTAMP:20260424T050736
CREATED:20221213T101332Z
LAST-MODIFIED:20221213T101332Z
UID:5438-1671009300-1671009300@transparencia.motril.es
SUMMARY:La alcaldesa de Motril\, Luisa García Chamorro\, asiste a la salida del evento de la asociación Mucho Corazón desde la Plaza de España.
DESCRIPTION:
URL:https://transparencia.motril.es/evento/la-alcaldesa-de-motril-luisa-garcia-chamorro-asiste-a-la-salida-del-evento-de-la-asociacion-mucho-corazon-desde-la-plaza-de-espana/
CATEGORIES:Actos
END:VEVENT
BEGIN:VEVENT
DTSTART;TZID=UTC:20221214T093000
DTEND;TZID=UTC:20221214T093000
DTSTAMP:20260424T050736
CREATED:20221213T101713Z
LAST-MODIFIED:20221213T101713Z
UID:5440-1671010200-1671010200@transparencia.motril.es
SUMMARY:La alcaldesa de Motril\, Luisa García Chamorro\, firma un convenio con el Colegio Francés para la prácticas de los alumnos en Motril.
DESCRIPTION:
URL:https://transparencia.motril.es/evento/la-alcaldesa-de-motril-luisa-garcia-chamorro-firma-un-convenio-con-el-colegio-frances-para-la-practicas-de-los-alumnos-en-motril/
CATEGORIES:Actos
END:VEVENT
BEGIN:VEVENT
DTSTART;TZID=UTC:20221214T100000
DTEND;TZID=UTC:20221214T100000
DTSTAMP:20260424T050736
CREATED:20221213T101808Z
LAST-MODIFIED:20221213T101808Z
UID:5442-1671012000-1671012000@transparencia.motril.es
SUMMARY:La alcaldesa de Motril\, Luisa García Chamorro\, asiste al acto de entrega de premios Buenas prácticas bilingües
DESCRIPTION:
URL:https://transparencia.motril.es/evento/la-alcaldesa-de-motril-luisa-garcia-chamorro-asiste-al-acto-de-entrega-de-premios-buenas-practicas-bilingues/
CATEGORIES:Actos
END:VEVENT
BEGIN:VEVENT
DTSTART;TZID=UTC:20221214T123000
DTEND;TZID=UTC:20221214T123000
DTSTAMP:20260424T050736
CREATED:20221213T102009Z
LAST-MODIFIED:20221213T102009Z
UID:5444-1671021000-1671021000@transparencia.motril.es
SUMMARY:La alcaldesa de Motril\, Luisa García Chamorro\, asiste al acto de presentación del nuevo Comisario Jefe de Motril
DESCRIPTION:
URL:https://transparencia.motril.es/evento/la-alcaldesa-de-motril-luisa-garcia-chamorro-asiste-al-acto-de-presentacion-del-nuevo-comisario-jefe-de-motril/
CATEGORIES:Actos
END:VEVENT
END:VCALENDAR