BEGIN:VCALENDAR
VERSION:2.0
PRODID:-//Ayuntamiento de Motril. Transparencia - ECPv6.15.20//NONSGML v1.0//EN
CALSCALE:GREGORIAN
METHOD:PUBLISH
X-WR-CALNAME:Ayuntamiento de Motril. Transparencia
X-ORIGINAL-URL:https://transparencia.motril.es
X-WR-CALDESC:Eventos para Ayuntamiento de Motril. Transparencia
REFRESH-INTERVAL;VALUE=DURATION:PT1H
X-Robots-Tag:noindex
X-PUBLISHED-TTL:PT1H
BEGIN:VTIMEZONE
TZID:UTC
BEGIN:STANDARD
TZOFFSETFROM:+0000
TZOFFSETTO:+0000
TZNAME:UTC
DTSTART:20210101T000000
END:STANDARD
END:VTIMEZONE
BEGIN:VEVENT
DTSTART;TZID=UTC:20221210T100000
DTEND;TZID=UTC:20221210T100000
DTSTAMP:20260424T050606
CREATED:20221209T123842Z
LAST-MODIFIED:20221209T123842Z
UID:5417-1670666400-1670666400@transparencia.motril.es
SUMMARY:La alcaldesa de Motril\, Luisa García Chamorro\, asiste a la misa en honor a Nuestra Señora la Virgen de Loreto\, patrona del Ejército del Aire
DESCRIPTION:
URL:https://transparencia.motril.es/evento/la-alcaldesa-de-motril-luisa-garcia-chamorro-asiste-a-la-misa-en-honor-a-nuestra-senora-la-virgen-de-loreto-patrona-del-ejercito-del-aire/
CATEGORIES:Actos
END:VEVENT
BEGIN:VEVENT
DTSTART;TZID=UTC:20221210T100000
DTEND;TZID=UTC:20221210T100000
DTSTAMP:20260424T050606
CREATED:20221209T124804Z
LAST-MODIFIED:20221209T124804Z
UID:5423-1670666400-1670666400@transparencia.motril.es
SUMMARY:La alcaldesa de Motril\, Luisa García Chamorro\, presenta el Belén viviente de Los Tablones
DESCRIPTION:
URL:https://transparencia.motril.es/evento/la-alcaldesa-de-motril-luisa-garcia-chamorro-presenta-el-belen-viviente-de-los-tablones/
CATEGORIES:Actos
END:VEVENT
BEGIN:VEVENT
DTSTART;TZID=UTC:20221210T100000
DTEND;TZID=UTC:20221210T100000
DTSTAMP:20260424T050606
CREATED:20221209T124905Z
LAST-MODIFIED:20221209T124905Z
UID:5425-1670666400-1670666400@transparencia.motril.es
SUMMARY:La alcaldesa de Motril\, Luisa García Chamorro\, asiste a la inauguración de aulas en el Colegio Reina Fabiola
DESCRIPTION:
URL:https://transparencia.motril.es/evento/la-alcaldesa-de-motril-luisa-garcia-chamorro-asiste-a-la-inauguracion-de-aulas-en-el-colegio-reina-fabiola/
CATEGORIES:Actos
END:VEVENT
BEGIN:VEVENT
DTSTART;TZID=UTC:20221210T110000
DTEND;TZID=UTC:20221210T110000
DTSTAMP:20260424T050606
CREATED:20221209T124530Z
LAST-MODIFIED:20221209T124530Z
UID:5419-1670670000-1670670000@transparencia.motril.es
SUMMARY:La alcaldesa de Motril\, Luisa García Chamorro\, asiste al acto militar con motivo de la festividad de Nuestra Señora la Virgen de Loreto\, patrona del Ejército del Aire
DESCRIPTION:
URL:https://transparencia.motril.es/evento/la-alcaldesa-de-motril-luisa-garcia-chamorro-asiste-al-acto-militar-con-motivo-de-la-festividad-de-nuestra-senora-la-virgen-de-loreto-patrona-del-ejercito-del-aire/
CATEGORIES:Actos
END:VEVENT
BEGIN:VEVENT
DTSTART;TZID=UTC:20221210T130000
DTEND;TZID=UTC:20221210T130000
DTSTAMP:20260424T050606
CREATED:20221209T124701Z
LAST-MODIFIED:20221209T124701Z
UID:5421-1670677200-1670677200@transparencia.motril.es
SUMMARY:La alcaldesa de Motril\, Luisa García Chamorro\, asiste al acto social con motivo de la festividad de Nuestra Señora la Virgen de Loreto\, patrona del Ejército del Aire
DESCRIPTION:
URL:https://transparencia.motril.es/evento/la-alcaldesa-de-motril-luisa-garcia-chamorro-asiste-al-acto-social-con-motivo-de-la-festividad-de-nuestra-senora-la-virgen-de-loreto-patrona-del-ejercito-del-aire/
CATEGORIES:Actos
END:VEVENT
BEGIN:VEVENT
DTSTART;TZID=UTC:20221210T190000
DTEND;TZID=UTC:20221210T190000
DTSTAMP:20260424T050606
CREATED:20221209T125006Z
LAST-MODIFIED:20221209T125006Z
UID:5427-1670698800-1670698800@transparencia.motril.es
SUMMARY:La alcaldesa de Motril\, Luisa García Chamorro\, y miembros del equipo de gobierno\, asisten al videomapping en la fachada del Ayuntamiento
DESCRIPTION:
URL:https://transparencia.motril.es/evento/la-alcaldesa-de-motril-luisa-garcia-chamorro-y-miembros-del-equipo-de-gobierno-asisten-al-videomapping-en-la-fachada-del-ayuntamiento/
CATEGORIES:Actos
END:VEVENT
END:VCALENDAR