BEGIN:VCALENDAR
VERSION:2.0
PRODID:-//Ayuntamiento de Motril. Transparencia - ECPv6.15.20//NONSGML v1.0//EN
CALSCALE:GREGORIAN
METHOD:PUBLISH
X-ORIGINAL-URL:https://transparencia.motril.es
X-WR-CALDESC:Eventos para Ayuntamiento de Motril. Transparencia
REFRESH-INTERVAL;VALUE=DURATION:PT1H
X-Robots-Tag:noindex
X-PUBLISHED-TTL:PT1H
BEGIN:VTIMEZONE
TZID:UTC
BEGIN:STANDARD
TZOFFSETFROM:+0000
TZOFFSETTO:+0000
TZNAME:UTC
DTSTART:20210101T000000
END:STANDARD
END:VTIMEZONE
BEGIN:VEVENT
DTSTART;TZID=UTC:20221205T100000
DTEND;TZID=UTC:20221205T100000
DTSTAMP:20260424T050740
CREATED:20221202T115827Z
LAST-MODIFIED:20221202T115827Z
UID:5391-1670234400-1670234400@transparencia.motril.es
SUMMARY:La alcaldesa de Motril\, Luisa García Chamorro asiste a la presentación de la Obra Social y del Ciclo de conciertos Pro-restauración del Santuario del Cerro de la Virgen
DESCRIPTION:
URL:https://transparencia.motril.es/evento/la-alcaldesa-de-motril-luisa-garcia-chamorro-asiste-a-la-presentacion-de-la-obra-social-y-del-ciclo-de-conciertos-pro-restauracion-del-santuario-del-cerro-de-la-virgen/
CATEGORIES:Actos
END:VEVENT
BEGIN:VEVENT
DTSTART;TZID=UTC:20221205T120000
DTEND;TZID=UTC:20221205T120000
DTSTAMP:20260424T050740
CREATED:20221202T125240Z
LAST-MODIFIED:20221202T125240Z
UID:5395-1670241600-1670241600@transparencia.motril.es
SUMMARY:Reunión interna
DESCRIPTION:
URL:https://transparencia.motril.es/evento/reunion-interna-146/
CATEGORIES:Reunión
END:VEVENT
BEGIN:VEVENT
DTSTART;TZID=UTC:20221205T183000
DTEND;TZID=UTC:20221205T183000
DTSTAMP:20260424T050740
CREATED:20221202T120014Z
LAST-MODIFIED:20221202T120014Z
UID:5393-1670265000-1670265000@transparencia.motril.es
SUMMARY:La alcaldesa de Motril\, Luisa García Chamorro\, junto con la corporación municipal\, asiste a los actos conmemorativos con motivo del Día de la Constitución.
DESCRIPTION:
URL:https://transparencia.motril.es/evento/la-alcaldesa-de-motril-luisa-garcia-chamorro-junto-con-la-corporacion-municipal-asiste-a-los-actos-conmemorativos-con-motivo-del-dia-de-la-constitucion/
CATEGORIES:Actos
END:VEVENT
END:VCALENDAR