BEGIN:VCALENDAR
VERSION:2.0
PRODID:-//Ayuntamiento de Motril. Transparencia - ECPv6.15.20//NONSGML v1.0//EN
CALSCALE:GREGORIAN
METHOD:PUBLISH
X-WR-CALNAME:Ayuntamiento de Motril. Transparencia
X-ORIGINAL-URL:https://transparencia.motril.es
X-WR-CALDESC:Eventos para Ayuntamiento de Motril. Transparencia
REFRESH-INTERVAL;VALUE=DURATION:PT1H
X-Robots-Tag:noindex
X-PUBLISHED-TTL:PT1H
BEGIN:VTIMEZONE
TZID:UTC
BEGIN:STANDARD
TZOFFSETFROM:+0000
TZOFFSETTO:+0000
TZNAME:UTC
DTSTART:20210101T000000
END:STANDARD
END:VTIMEZONE
BEGIN:VEVENT
DTSTART;TZID=UTC:20221204T100000
DTEND;TZID=UTC:20221204T140000
DTSTAMP:20260424T050610
CREATED:20221202T115707Z
LAST-MODIFIED:20221202T115707Z
UID:5389-1670148000-1670162400@transparencia.motril.es
SUMMARY:La alcaldesa de Motril\, Luisa García Chamorro asiste a la salida de la Subida pedestre al Conjuro y posteriormente a la entrega de premios.
DESCRIPTION:
URL:https://transparencia.motril.es/evento/la-alcaldesa-de-motril-luisa-garcia-chamorro-asiste-a-la-salida-de-la-subida-pedestre-al-conjuro-y-posteriormente-a-la-entrega-de-premios/
CATEGORIES:Actos,Deportes
END:VEVENT
END:VCALENDAR