BEGIN:VCALENDAR
VERSION:2.0
PRODID:-//Ayuntamiento de Motril. Transparencia - ECPv6.15.20//NONSGML v1.0//EN
CALSCALE:GREGORIAN
METHOD:PUBLISH
X-WR-CALNAME:Ayuntamiento de Motril. Transparencia
X-ORIGINAL-URL:https://transparencia.motril.es
X-WR-CALDESC:Eventos para Ayuntamiento de Motril. Transparencia
REFRESH-INTERVAL;VALUE=DURATION:PT1H
X-Robots-Tag:noindex
X-PUBLISHED-TTL:PT1H
BEGIN:VTIMEZONE
TZID:UTC
BEGIN:STANDARD
TZOFFSETFROM:+0000
TZOFFSETTO:+0000
TZNAME:UTC
DTSTART:20210101T000000
END:STANDARD
END:VTIMEZONE
BEGIN:VEVENT
DTSTART;TZID=UTC:20221201T093000
DTEND;TZID=UTC:20221201T093000
DTSTAMP:20260424T050608
CREATED:20221130T113307Z
LAST-MODIFIED:20221130T113440Z
UID:5364-1669887000-1669887000@transparencia.motril.es
SUMMARY:La alcaldesa de Motril\, Luisa García Chamorro\, recibe a la escritora Encarnación Estebáne para presentar el libro Álvaro\, latidos de los versos
DESCRIPTION:
URL:https://transparencia.motril.es/evento/la-alcaldesa-de-motril-luisa-garcia-chamorro-recibe-a-la-escritora-encarnacion-estebane-para-presentar-el-libro-alvaro-latidos-de-los-versos/
CATEGORIES:Actos
END:VEVENT
BEGIN:VEVENT
DTSTART;TZID=UTC:20221201T100000
DTEND;TZID=UTC:20221201T100000
DTSTAMP:20260424T050608
CREATED:20221130T113351Z
LAST-MODIFIED:20221130T113351Z
UID:5366-1669888800-1669888800@transparencia.motril.es
SUMMARY:La alcaldesa de Motril y la teniente de alcalde de Acción Social y Participación Ciudadana\, Inmaculada Torres\, presentan la próxima edición de la Feria de las asociaciones
DESCRIPTION:
URL:https://transparencia.motril.es/evento/la-alcaldesa-de-motril-y-la-teniente-de-alcalde-de-accion-social-y-participacion-ciudadana-inmaculada-torres-presentan-la-proxima-edicion-de-la-feria-de-las-asociaciones/
CATEGORIES:Acción Social,Actos
END:VEVENT
BEGIN:VEVENT
DTSTART;TZID=UTC:20221201T120000
DTEND;TZID=UTC:20221201T120000
DTSTAMP:20260424T050608
CREATED:20221130T113523Z
LAST-MODIFIED:20221130T113523Z
UID:5368-1669896000-1669896000@transparencia.motril.es
SUMMARY:La alcaldesa de Motril\, Luisa García Chamorro\, presenta el proyecto del Parque de San Antonio
DESCRIPTION:
URL:https://transparencia.motril.es/evento/la-alcaldesa-de-motril-luisa-garcia-chamorro-presenta-el-proyecto-del-parque-de-san-antonio/
CATEGORIES:Actos
END:VEVENT
BEGIN:VEVENT
DTSTART;TZID=UTC:20221201T170000
DTEND;TZID=UTC:20221201T170000
DTSTAMP:20260424T050608
CREATED:20221130T113606Z
LAST-MODIFIED:20221130T113606Z
UID:5370-1669914000-1669914000@transparencia.motril.es
SUMMARY:La alcaldesa de Motril\, Luisa García Chamorro\, visita la Panadería Molino.
DESCRIPTION:
URL:https://transparencia.motril.es/evento/la-alcaldesa-de-motril-luisa-garcia-chamorro-visita-la-panaderia-molino/
CATEGORIES:Actos
END:VEVENT
BEGIN:VEVENT
DTSTART;TZID=UTC:20221201T180000
DTEND;TZID=UTC:20221201T180000
DTSTAMP:20260424T050608
CREATED:20221130T113718Z
LAST-MODIFIED:20221130T113718Z
UID:5372-1669917600-1669917600@transparencia.motril.es
SUMMARY:La alcaldesa de Motril\, Luisa García Chamorro\, inaugura la Casa del Ingeniero\, sede institucional de la concejalía de Patrimonio Industrial del Azúcar.
DESCRIPTION:
URL:https://transparencia.motril.es/evento/la-alcaldesa-de-motril-luisa-garcia-chamorro-inaugura-la-casa-del-ingeniero-sede-institucional-de-la-concejalia-de-patrimonio-industrial-del-azucar/
CATEGORIES:Actos
END:VEVENT
BEGIN:VEVENT
DTSTART;TZID=UTC:20221201T200000
DTEND;TZID=UTC:20221201T200000
DTSTAMP:20260424T050608
CREATED:20221130T113826Z
LAST-MODIFIED:20221130T113826Z
UID:5374-1669924800-1669924800@transparencia.motril.es
SUMMARY:La alcaldesa de Motril\, Luisa García Chamorro\, asiste a la retransmisión del partido del mundial entre España y Japón
DESCRIPTION:
URL:https://transparencia.motril.es/evento/la-alcaldesa-de-motril-luisa-garcia-chamorro-asiste-a-la-retransmision-del-partido-del-mundial-entre-espana-y-japon/
CATEGORIES:Actos,Deportes
END:VEVENT
END:VCALENDAR