BEGIN:VCALENDAR
VERSION:2.0
PRODID:-//Ayuntamiento de Motril. Transparencia - ECPv6.15.20//NONSGML v1.0//EN
CALSCALE:GREGORIAN
METHOD:PUBLISH
X-ORIGINAL-URL:https://transparencia.motril.es
X-WR-CALDESC:Eventos para Ayuntamiento de Motril. Transparencia
REFRESH-INTERVAL;VALUE=DURATION:PT1H
X-Robots-Tag:noindex
X-PUBLISHED-TTL:PT1H
BEGIN:VTIMEZONE
TZID:UTC
BEGIN:STANDARD
TZOFFSETFROM:+0000
TZOFFSETTO:+0000
TZNAME:UTC
DTSTART:20210101T000000
END:STANDARD
END:VTIMEZONE
BEGIN:VEVENT
DTSTART;TZID=UTC:20221128T093000
DTEND;TZID=UTC:20221128T093000
DTSTAMP:20260424T050727
CREATED:20221125T084205Z
LAST-MODIFIED:20221125T084205Z
UID:5185-1669627800-1669627800@transparencia.motril.es
SUMMARY:La corporación celebra pleno ordinario
DESCRIPTION:
URL:https://transparencia.motril.es/evento/la-corporacion-celebra-pleno-ordinario/
CATEGORIES:Pleno
END:VEVENT
BEGIN:VEVENT
DTSTART;TZID=UTC:20221128T190000
DTEND;TZID=UTC:20221128T190000
DTSTAMP:20260424T050727
CREATED:20221128T084505Z
LAST-MODIFIED:20221128T084505Z
UID:5190-1669662000-1669662000@transparencia.motril.es
SUMMARY:La alcaldesa de Motril\, Luisa García Chamorro\, asiste a la sesión informativa de la Plataforma de las Infraestructuras en Madrid.
DESCRIPTION:
URL:https://transparencia.motril.es/evento/la-alcaldesa-de-motril-luisa-garcia-chamorro-asiste-a-la-sesion-informativa-de-la-plataforma-de-las-infraestructuras-en-madrid/
CATEGORIES:Actos
END:VEVENT
END:VCALENDAR