BEGIN:VCALENDAR
VERSION:2.0
PRODID:-//Ayuntamiento de Motril. Transparencia - ECPv6.15.20//NONSGML v1.0//EN
CALSCALE:GREGORIAN
METHOD:PUBLISH
X-WR-CALNAME:Ayuntamiento de Motril. Transparencia
X-ORIGINAL-URL:https://transparencia.motril.es
X-WR-CALDESC:Eventos para Ayuntamiento de Motril. Transparencia
REFRESH-INTERVAL;VALUE=DURATION:PT1H
X-Robots-Tag:noindex
X-PUBLISHED-TTL:PT1H
BEGIN:VTIMEZONE
TZID:UTC
BEGIN:STANDARD
TZOFFSETFROM:+0000
TZOFFSETTO:+0000
TZNAME:UTC
DTSTART:20210101T000000
END:STANDARD
END:VTIMEZONE
BEGIN:VEVENT
DTSTART;TZID=UTC:20221125T100000
DTEND;TZID=UTC:20221125T100000
DTSTAMP:20260424T082026
CREATED:20221124T094251Z
LAST-MODIFIED:20221124T094251Z
UID:5158-1669370400-1669370400@transparencia.motril.es
SUMMARY:La alcaldesa de Motril\, Luisa García Chamorro\, junto con el equipo de gobierno\, asiste al Homenaje 25N: '35 años cerca de ti\, avanzando juntas'
DESCRIPTION:
URL:https://transparencia.motril.es/evento/la-alcaldesa-de-motril-luisa-garcia-chamorro-junto-con-el-equipo-de-gobierno-asiste-al-homenaje-25n-35-anos-cerca-de-ti-avanzando-juntas/
CATEGORIES:Acción Social,Actos
END:VEVENT
BEGIN:VEVENT
DTSTART;TZID=UTC:20221125T110000
DTEND;TZID=UTC:20221125T110000
DTSTAMP:20260424T082026
CREATED:20221124T094747Z
LAST-MODIFIED:20221124T094747Z
UID:5160-1669374000-1669374000@transparencia.motril.es
SUMMARY:La alcaldesa de Motril\, Luisa García Chamorro\, junto al equipo de gobierno\, presenta el proyecto del Centro de Recepción de la RNC Charca de Suárez.
DESCRIPTION:
URL:https://transparencia.motril.es/evento/la-alcaldesa-de-motril-luisa-garcia-chamorro-junto-al-equipo-de-gobierno-presenta-el-proyecto-del-centro-de-recepcion-de-la-rnc-charca-de-suarez/
CATEGORIES:Presentación
END:VEVENT
BEGIN:VEVENT
DTSTART;TZID=UTC:20221125T120000
DTEND;TZID=UTC:20221125T120000
DTSTAMP:20260424T082026
CREATED:20221124T095109Z
LAST-MODIFIED:20221124T095109Z
UID:5165-1669377600-1669377600@transparencia.motril.es
SUMMARY:La alcaldesa de Motril\, Luisa García Chamorro\, junto a responsables municipales\, visita los trabajos de limpieza que se están desarrollando en la Fábrica del Pilar.
DESCRIPTION:
URL:https://transparencia.motril.es/evento/la-alcaldesa-de-motril-luisa-garcia-chamorro-junto-a-responsables-municipales-visita-los-trabajos-de-limpieza-que-se-estan-desarrollando-en-la-fabrica-del-pilar/
CATEGORIES:Actos
END:VEVENT
BEGIN:VEVENT
DTSTART;TZID=UTC:20221125T193000
DTEND;TZID=UTC:20221125T193000
DTSTAMP:20260424T082026
CREATED:20221124T095546Z
LAST-MODIFIED:20221124T095546Z
UID:5170-1669404600-1669404600@transparencia.motril.es
SUMMARY:La alcaldesa de Motril\, Luisa García Chamorro\, asiste al acto institucional de lectura del manifiesto del 25N
DESCRIPTION:
URL:https://transparencia.motril.es/evento/la-alcaldesa-de-motril-luisa-garcia-chamorro-asiste-al-acto-institucional-de-lectura-del-manifiesto-del-25n/
CATEGORIES:Actos
END:VEVENT
BEGIN:VEVENT
DTSTART;TZID=UTC:20221125T200000
DTEND;TZID=UTC:20221125T200000
DTSTAMP:20260424T082026
CREATED:20221124T095852Z
LAST-MODIFIED:20221124T095852Z
UID:5173-1669406400-1669406400@transparencia.motril.es
SUMMARY:La alcaldesa de Motril\, Luisa García Chamorro\, junto a miembros del equipo de gobierno\, asiste a la inauguración de la exposición de Martín Palacios en el Museo de Historia de Motril.
DESCRIPTION:
URL:https://transparencia.motril.es/evento/la-alcaldesa-de-motril-luisa-garcia-chamorro-junto-a-miembros-del-equipo-de-gobierno-asiste-a-la-inauguracion-de-la-exposicion-de-martin-palacios-en-el-museo-de-historia-de-motril/
CATEGORIES:Actos
END:VEVENT
END:VCALENDAR