BEGIN:VCALENDAR
VERSION:2.0
PRODID:-//Ayuntamiento de Motril. Transparencia - ECPv6.15.20//NONSGML v1.0//EN
CALSCALE:GREGORIAN
METHOD:PUBLISH
X-ORIGINAL-URL:https://transparencia.motril.es
X-WR-CALDESC:Eventos para Ayuntamiento de Motril. Transparencia
REFRESH-INTERVAL;VALUE=DURATION:PT1H
X-Robots-Tag:noindex
X-PUBLISHED-TTL:PT1H
BEGIN:VTIMEZONE
TZID:UTC
BEGIN:STANDARD
TZOFFSETFROM:+0000
TZOFFSETTO:+0000
TZNAME:UTC
DTSTART:20210101T000000
END:STANDARD
END:VTIMEZONE
BEGIN:VEVENT
DTSTART;TZID=UTC:20221118T093000
DTEND;TZID=UTC:20221118T093000
DTSTAMP:20260424T064959
CREATED:20221117T112729Z
LAST-MODIFIED:20221117T112729Z
UID:5111-1668763800-1668763800@transparencia.motril.es
SUMMARY:La alcaldesa de Motril\, Luisa García Chamorro\, asiste a las VI Jornadas nacionales Proyección de enfermería
DESCRIPTION:
URL:https://transparencia.motril.es/evento/la-alcaldesa-de-motril-luisa-garcia-chamorro-asiste-a-las-vi-jornadas-nacionales-proyeccion-de-enfermeria/
CATEGORIES:Actos
END:VEVENT
BEGIN:VEVENT
DTSTART;TZID=UTC:20221118T103000
DTEND;TZID=UTC:20221118T103000
DTSTAMP:20260424T064959
CREATED:20221117T114947Z
LAST-MODIFIED:20221117T123516Z
UID:5113-1668767400-1668767400@transparencia.motril.es
SUMMARY:La corporación municipal celebra pleno extraordinario sobre presupuestos
DESCRIPTION:
URL:https://transparencia.motril.es/evento/la-corporacion-municipal-celebra-pleno-extraordinario-sobre-presupuestos/
CATEGORIES:Pleno
END:VEVENT
BEGIN:VEVENT
DTSTART;TZID=UTC:20221118T170000
DTEND;TZID=UTC:20221118T170000
DTSTAMP:20260424T064959
CREATED:20221117T123834Z
LAST-MODIFIED:20221117T123834Z
UID:5115-1668790800-1668790800@transparencia.motril.es
SUMMARY:La alcaldesa de Motril\, Luisa García Chamorro\, preside el I Certamen de Arte Diverso.
DESCRIPTION:
URL:https://transparencia.motril.es/evento/la-alcaldesa-de-motril-luisa-garcia-chamorro-preside-el-i-certamen-de-arte-diverso/
CATEGORIES:Actos
END:VEVENT
BEGIN:VEVENT
DTSTART;TZID=UTC:20221118T203000
DTEND;TZID=UTC:20221118T203000
DTSTAMP:20260424T064959
CREATED:20221117T124040Z
LAST-MODIFIED:20221117T124040Z
UID:5117-1668803400-1668803400@transparencia.motril.es
SUMMARY:La alcaldesa de Motril\, Luisa García Chamorro\, asiste al X aniversario de la empresa motrileña Linde Barragán y asociados.
DESCRIPTION:
URL:https://transparencia.motril.es/evento/la-alcaldesa-de-motril-luisa-garcia-chamorro-asiste-al-x-aniversario-de-la-empresa-motrilena-linde-barragan-y-asociados/
CATEGORIES:Actos
END:VEVENT
END:VCALENDAR