BEGIN:VCALENDAR
VERSION:2.0
PRODID:-//Ayuntamiento de Motril. Transparencia - ECPv6.15.20//NONSGML v1.0//EN
CALSCALE:GREGORIAN
METHOD:PUBLISH
X-WR-CALNAME:Ayuntamiento de Motril. Transparencia
X-ORIGINAL-URL:https://transparencia.motril.es
X-WR-CALDESC:Eventos para Ayuntamiento de Motril. Transparencia
REFRESH-INTERVAL;VALUE=DURATION:PT1H
X-Robots-Tag:noindex
X-PUBLISHED-TTL:PT1H
BEGIN:VTIMEZONE
TZID:UTC
BEGIN:STANDARD
TZOFFSETFROM:+0000
TZOFFSETTO:+0000
TZNAME:UTC
DTSTART:20210101T000000
END:STANDARD
END:VTIMEZONE
BEGIN:VEVENT
DTSTART;TZID=UTC:20221117T093000
DTEND;TZID=UTC:20221117T093000
DTSTAMP:20260424T085107
CREATED:20221116T123727Z
LAST-MODIFIED:20221116T123727Z
UID:5085-1668677400-1668677400@transparencia.motril.es
SUMMARY:La alcaldesa de Motril\, Luisa García Chamorro\, visita el vivero municipal
DESCRIPTION:
URL:https://transparencia.motril.es/evento/la-alcaldesa-de-motril-luisa-garcia-chamorro-visita-el-vivero-municipal/
CATEGORIES:Actos
END:VEVENT
BEGIN:VEVENT
DTSTART;TZID=UTC:20221117T103000
DTEND;TZID=UTC:20221117T103000
DTSTAMP:20260424T085107
CREATED:20221116T123927Z
LAST-MODIFIED:20221116T123927Z
UID:5087-1668681000-1668681000@transparencia.motril.es
SUMMARY:La alcaldesa de Motril\, Luisa García Chamorro\, recibe a la Asociación Run&Run con motivo del XI Trofeo benéfico
DESCRIPTION:
URL:https://transparencia.motril.es/evento/la-alcaldesa-de-motril-luisa-garcia-chamorro-recibe-a-la-asociacion-runrun-con-motivo-del-xi-trofeo-benefico/
CATEGORIES:Actos
END:VEVENT
BEGIN:VEVENT
DTSTART;TZID=UTC:20221117T110000
DTEND;TZID=UTC:20221117T110000
DTSTAMP:20260424T085107
CREATED:20221116T124110Z
LAST-MODIFIED:20221116T124110Z
UID:5089-1668682800-1668682800@transparencia.motril.es
SUMMARY:La alcaldesa de Motril\, Luisa García Chamorro\, preside el Consejo Municipal de la Mujer
DESCRIPTION:
URL:https://transparencia.motril.es/evento/la-alcaldesa-de-motril-luisa-garcia-chamorro-preside-el-consejo-municipal-de-la-mujer/
CATEGORIES:Acción Social,Actos
END:VEVENT
BEGIN:VEVENT
DTSTART;TZID=UTC:20221117T120000
DTEND;TZID=UTC:20221117T120000
DTSTAMP:20260424T085107
CREATED:20221116T124158Z
LAST-MODIFIED:20221116T124158Z
UID:5091-1668686400-1668686400@transparencia.motril.es
SUMMARY:Reunión interna
DESCRIPTION:
URL:https://transparencia.motril.es/evento/reunion-interna-137/
CATEGORIES:Reunión
END:VEVENT
END:VCALENDAR