BEGIN:VCALENDAR
VERSION:2.0
PRODID:-//Ayuntamiento de Motril. Transparencia - ECPv6.15.20//NONSGML v1.0//EN
CALSCALE:GREGORIAN
METHOD:PUBLISH
X-WR-CALNAME:Ayuntamiento de Motril. Transparencia
X-ORIGINAL-URL:https://transparencia.motril.es
X-WR-CALDESC:Eventos para Ayuntamiento de Motril. Transparencia
REFRESH-INTERVAL;VALUE=DURATION:PT1H
X-Robots-Tag:noindex
X-PUBLISHED-TTL:PT1H
BEGIN:VTIMEZONE
TZID:UTC
BEGIN:STANDARD
TZOFFSETFROM:+0000
TZOFFSETTO:+0000
TZNAME:UTC
DTSTART:20210101T000000
END:STANDARD
END:VTIMEZONE
BEGIN:VEVENT
DTSTART;TZID=UTC:20221114T100000
DTEND;TZID=UTC:20221114T100000
DTSTAMP:20260424T082745
CREATED:20221111T081512Z
LAST-MODIFIED:20221111T081512Z
UID:5062-1668420000-1668420000@transparencia.motril.es
SUMMARY:Reunión interna
DESCRIPTION:
URL:https://transparencia.motril.es/evento/reunion-interna-132/
CATEGORIES:Reunión
END:VEVENT
BEGIN:VEVENT
DTSTART;TZID=UTC:20221114T110000
DTEND;TZID=UTC:20221114T110000
DTSTAMP:20260424T082745
CREATED:20221111T131215Z
LAST-MODIFIED:20221111T081412Z
UID:5060-1668423600-1668423600@transparencia.motril.es
SUMMARY:La alcaldesa de Motril\, Luisa García Chamorro\, junto al resto de miembros del equipo de gobierno\, presenta los presupuestos para 2023
DESCRIPTION:
URL:https://transparencia.motril.es/evento/la-alcaldesa-de-motril-luisa-garcia-chamorro-junto-al-resto-de-miembros-del-equipo-de-gobierno-presenta-los-presupuestos-para-2023/
CATEGORIES:Rueda de prensa
END:VEVENT
BEGIN:VEVENT
DTSTART;TZID=UTC:20221114T130000
DTEND;TZID=UTC:20221114T130000
DTSTAMP:20260424T082745
CREATED:20221111T081626Z
LAST-MODIFIED:20221111T081626Z
UID:5064-1668430800-1668430800@transparencia.motril.es
SUMMARY:Reunión interna
DESCRIPTION:
URL:https://transparencia.motril.es/evento/reunion-interna-133/
CATEGORIES:Reunión
END:VEVENT
BEGIN:VEVENT
DTSTART;TZID=UTC:20221114T170000
DTEND;TZID=UTC:20221114T170000
DTSTAMP:20260424T082745
CREATED:20221111T082359Z
LAST-MODIFIED:20221111T082359Z
UID:5066-1668445200-1668445200@transparencia.motril.es
SUMMARY:La alcaldesa de Motril\, Luisa García Chamorro\, junto a miembros del equipo de gobierno\, asisten a la actividad de la Fiesta de la Castaña organizada por el área de Acción social.
DESCRIPTION:
URL:https://transparencia.motril.es/evento/la-alcaldesa-de-motril-luisa-garcia-chamorro-junto-a-miembros-del-equipo-de-gobierno-asisten-a-la-actividad-de-la-fiesta-de-la-castana-organizada-por-el-area-de-accion-social/
CATEGORIES:Acción Social,Actos
END:VEVENT
BEGIN:VEVENT
DTSTART;TZID=UTC:20221114T183000
DTEND;TZID=UTC:20221114T183000
DTSTAMP:20260424T082745
CREATED:20221114T120326Z
LAST-MODIFIED:20221114T120326Z
UID:5069-1668450600-1668450600@transparencia.motril.es
SUMMARY:La alcaldesa de Motril\, Luisa García Chamorro\, presenta el I Certamen de Bandas de Santa Cecilia
DESCRIPTION:
URL:https://transparencia.motril.es/evento/la-alcaldesa-de-motril-luisa-garcia-chamorro-presenta-el-i-certamen-de-bandas-de-santa-cecilia/
CATEGORIES:Actos
END:VEVENT
END:VCALENDAR