BEGIN:VCALENDAR
VERSION:2.0
PRODID:-//Ayuntamiento de Motril. Transparencia - ECPv6.15.20//NONSGML v1.0//EN
CALSCALE:GREGORIAN
METHOD:PUBLISH
X-WR-CALNAME:Ayuntamiento de Motril. Transparencia
X-ORIGINAL-URL:https://transparencia.motril.es
X-WR-CALDESC:Eventos para Ayuntamiento de Motril. Transparencia
REFRESH-INTERVAL;VALUE=DURATION:PT1H
X-Robots-Tag:noindex
X-PUBLISHED-TTL:PT1H
BEGIN:VTIMEZONE
TZID:UTC
BEGIN:STANDARD
TZOFFSETFROM:+0000
TZOFFSETTO:+0000
TZNAME:UTC
DTSTART:20210101T000000
END:STANDARD
END:VTIMEZONE
BEGIN:VEVENT
DTSTART;TZID=UTC:20221111T100000
DTEND;TZID=UTC:20221111T100000
DTSTAMP:20260424T082746
CREATED:20221111T080922Z
LAST-MODIFIED:20221111T080922Z
UID:5054-1668160800-1668160800@transparencia.motril.es
SUMMARY:Reunión interna
DESCRIPTION:
URL:https://transparencia.motril.es/evento/reunion-interna-130/
END:VEVENT
BEGIN:VEVENT
DTSTART;TZID=UTC:20221111T120000
DTEND;TZID=UTC:20221111T120000
DTSTAMP:20260424T082746
CREATED:20221111T081019Z
LAST-MODIFIED:20221111T081019Z
UID:5056-1668168000-1668168000@transparencia.motril.es
SUMMARY:Reunión interna
DESCRIPTION:
URL:https://transparencia.motril.es/evento/reunion-interna-131/
CATEGORIES:Reunión
END:VEVENT
BEGIN:VEVENT
DTSTART;TZID=UTC:20221111T130000
DTEND;TZID=UTC:20221111T130000
DTSTAMP:20260424T082746
CREATED:20221111T081148Z
LAST-MODIFIED:20221111T081148Z
UID:5058-1668171600-1668171600@transparencia.motril.es
SUMMARY:La alcaldesa de Motril\, Luisa García Chamorro\, asiste al 40 aniversario de Congelados Campoy
DESCRIPTION:
URL:https://transparencia.motril.es/evento/la-alcaldesa-de-motril-luisa-garcia-chamorro-asiste-al-40-aniversario-de-congelados-campoy/
CATEGORIES:Actos
END:VEVENT
END:VCALENDAR