BEGIN:VCALENDAR
VERSION:2.0
PRODID:-//Ayuntamiento de Motril. Transparencia - ECPv6.15.20//NONSGML v1.0//EN
CALSCALE:GREGORIAN
METHOD:PUBLISH
X-ORIGINAL-URL:https://transparencia.motril.es
X-WR-CALDESC:Eventos para Ayuntamiento de Motril. Transparencia
REFRESH-INTERVAL;VALUE=DURATION:PT1H
X-Robots-Tag:noindex
X-PUBLISHED-TTL:PT1H
BEGIN:VTIMEZONE
TZID:UTC
BEGIN:STANDARD
TZOFFSETFROM:+0000
TZOFFSETTO:+0000
TZNAME:UTC
DTSTART:20210101T000000
END:STANDARD
END:VTIMEZONE
BEGIN:VEVENT
DTSTART;TZID=UTC:20221107T093000
DTEND;TZID=UTC:20221107T093000
DTSTAMP:20260424T065004
CREATED:20221102T105844Z
LAST-MODIFIED:20221102T105844Z
UID:5013-1667813400-1667813400@transparencia.motril.es
SUMMARY:La alcaldesa de Motril\, Luisa García Chamorro\, junto a la teniente de alcalde de Acción social\, Inmaculada Torres\, reciben a la nueva coordinadora del Instituto Andaluz de la mujer\, Teresa Illescas.
DESCRIPTION:
URL:https://transparencia.motril.es/evento/la-alcaldesa-de-motril-luisa-garcia-chamorro-junto-a-la-teniente-de-alcalde-de-accion-social-inmaculada-torres-reciben-a-la-nueva-coordinadora-del-instituto-andaluz-de-la-mujer-teresa-illescas/
CATEGORIES:Acción Social,Actos
END:VEVENT
BEGIN:VEVENT
DTSTART;TZID=UTC:20221107T100000
DTEND;TZID=UTC:20221107T100000
DTSTAMP:20260424T065004
CREATED:20221102T110043Z
LAST-MODIFIED:20221102T110043Z
UID:5015-1667815200-1667815200@transparencia.motril.es
SUMMARY:La alcaldesa de Motril\, Luisa García Chamorro firma un acuerdo de colaboración con el colegio Ave María Esparraguera
DESCRIPTION:
URL:https://transparencia.motril.es/evento/la-alcaldesa-de-motril-luisa-garcia-chamorro-firma-un-acuerdo-de-colaboracion-con-el-colegio-ave-maria-esparraguera/
CATEGORIES:Acción Social,Actos
END:VEVENT
BEGIN:VEVENT
DTSTART;TZID=UTC:20221107T110000
DTEND;TZID=UTC:20221107T110000
DTSTAMP:20260424T065004
CREATED:20221102T110136Z
LAST-MODIFIED:20221102T110136Z
UID:5017-1667818800-1667818800@transparencia.motril.es
SUMMARY:Reunión interna
DESCRIPTION:
URL:https://transparencia.motril.es/evento/reunion-interna-124/
CATEGORIES:Reunión
END:VEVENT
BEGIN:VEVENT
DTSTART;TZID=UTC:20221107T120000
DTEND;TZID=UTC:20221107T120000
DTSTAMP:20260424T065004
CREATED:20221102T110212Z
LAST-MODIFIED:20221107T120058Z
UID:5019-1667822400-1667822400@transparencia.motril.es
SUMMARY:La alcaldesa de Motril recibe al Teniente coronel del grupo de artillería antiaérea para informar de la jornada de puertas abiertas que se realizará en el Recinto Ferial.
DESCRIPTION:
URL:https://transparencia.motril.es/evento/reunion-interna-125/
CATEGORIES:Reunión
END:VEVENT
END:VCALENDAR