BEGIN:VCALENDAR
VERSION:2.0
PRODID:-//Ayuntamiento de Motril. Transparencia - ECPv6.15.20//NONSGML v1.0//EN
CALSCALE:GREGORIAN
METHOD:PUBLISH
X-ORIGINAL-URL:https://transparencia.motril.es
X-WR-CALDESC:Eventos para Ayuntamiento de Motril. Transparencia
REFRESH-INTERVAL;VALUE=DURATION:PT1H
X-Robots-Tag:noindex
X-PUBLISHED-TTL:PT1H
BEGIN:VTIMEZONE
TZID:UTC
BEGIN:STANDARD
TZOFFSETFROM:+0000
TZOFFSETTO:+0000
TZNAME:UTC
DTSTART:20210101T000000
END:STANDARD
END:VTIMEZONE
BEGIN:VEVENT
DTSTART;TZID=UTC:20221102T093000
DTEND;TZID=UTC:20221102T093000
DTSTAMP:20260424T064958
CREATED:20221031T104712Z
LAST-MODIFIED:20221031T104712Z
UID:4993-1667381400-1667381400@transparencia.motril.es
SUMMARY:La alcaldesa de Motril\, Luisa García Chamorro\, recibe al recién reelegido presidente de la Agrupación de Hermandades y Cofradías de Semana Santa de Motril\, Manuel Terrón
DESCRIPTION:
URL:https://transparencia.motril.es/evento/la-alcaldesa-de-motril-luisa-garcia-chamorro-recibe-al-recien-reelegido-presidente-de-la-agrupacion-de-hermandades-y-cofradias-de-semana-santa-de-motril-manuel-terron/
CATEGORIES:Reunión
END:VEVENT
BEGIN:VEVENT
DTSTART;TZID=UTC:20221102T120000
DTEND;TZID=UTC:20221102T120000
DTSTAMP:20260424T064958
CREATED:20221031T104958Z
LAST-MODIFIED:20221031T104958Z
UID:4995-1667390400-1667390400@transparencia.motril.es
SUMMARY:La alcaldesa de Motril\, Luisa García Chamorro\, se reúne con el delegado del gobierno en Granada.
DESCRIPTION:
URL:https://transparencia.motril.es/evento/la-alcaldesa-de-motril-luisa-garcia-chamorro-se-reune-con-el-delegado-del-gobierno-en-granada/
CATEGORIES:Actos
END:VEVENT
END:VCALENDAR