BEGIN:VCALENDAR
VERSION:2.0
PRODID:-//Ayuntamiento de Motril. Transparencia - ECPv6.15.20//NONSGML v1.0//EN
CALSCALE:GREGORIAN
METHOD:PUBLISH
X-ORIGINAL-URL:https://transparencia.motril.es
X-WR-CALDESC:Eventos para Ayuntamiento de Motril. Transparencia
REFRESH-INTERVAL;VALUE=DURATION:PT1H
X-Robots-Tag:noindex
X-PUBLISHED-TTL:PT1H
BEGIN:VTIMEZONE
TZID:UTC
BEGIN:STANDARD
TZOFFSETFROM:+0000
TZOFFSETTO:+0000
TZNAME:UTC
DTSTART:20210101T000000
END:STANDARD
END:VTIMEZONE
BEGIN:VEVENT
DTSTART;TZID=UTC:20221011T100000
DTEND;TZID=UTC:20221011T100000
DTSTAMP:20260424T111657
CREATED:20221010T083448Z
LAST-MODIFIED:20221010T083448Z
UID:4858-1665482400-1665482400@transparencia.motril.es
SUMMARY:La alcaldesa de Motril\, Luisa García Chamorro\, asiste a la Junta de portavoces de la FEMP por videoconferencia.
DESCRIPTION:
URL:https://transparencia.motril.es/evento/la-alcaldesa-de-motril-luisa-garcia-chamorro-asiste-a-la-junta-de-portavoces-de-la-femp-por-videoconferencia/
CATEGORIES:Reunión
END:VEVENT
BEGIN:VEVENT
DTSTART;TZID=UTC:20221011T113000
DTEND;TZID=UTC:20221011T113000
DTSTAMP:20260424T111657
CREATED:20221010T083547Z
LAST-MODIFIED:20221010T083547Z
UID:4860-1665487800-1665487800@transparencia.motril.es
SUMMARY:Reunión interna
DESCRIPTION:
URL:https://transparencia.motril.es/evento/reunion-interna-101/
CATEGORIES:Reunión
END:VEVENT
BEGIN:VEVENT
DTSTART;TZID=UTC:20221011T120000
DTEND;TZID=UTC:20221011T120000
DTSTAMP:20260424T111657
CREATED:20221010T083157Z
LAST-MODIFIED:20221010T083157Z
UID:4856-1665489600-1665489600@transparencia.motril.es
SUMMARY:La alcaldesa de Motril\, Luisa García Chamorro y el concejal de Deportes\, Daniel Ortega\, junto a patrocinadores de la cita\, acuden al Centro Deportivo Time para recoger los dorsales de la Carrera de la mujer 2022.
DESCRIPTION:
URL:https://transparencia.motril.es/evento/la-alcaldesa-de-motril-luisa-garcia-chamorro-y-el-concejal-de-deportes-daniel-ortega-junto-a-patrocinadores-de-la-cita-acuden-al-centro-deportivo-time-para-recoger-los-dorsales-de-la-carrera-de-la/
CATEGORIES:Deportes
END:VEVENT
BEGIN:VEVENT
DTSTART;TZID=UTC:20221011T130000
DTEND;TZID=UTC:20221011T130000
DTSTAMP:20260424T111657
CREATED:20221010T083929Z
LAST-MODIFIED:20221010T083929Z
UID:4862-1665493200-1665493200@transparencia.motril.es
SUMMARY:Reunión interna
DESCRIPTION:
URL:https://transparencia.motril.es/evento/reunion-interna-102/
CATEGORIES:Reunión
END:VEVENT
END:VCALENDAR