BEGIN:VCALENDAR
VERSION:2.0
PRODID:-//Ayuntamiento de Motril. Transparencia - ECPv6.15.20//NONSGML v1.0//EN
CALSCALE:GREGORIAN
METHOD:PUBLISH
X-WR-CALNAME:Ayuntamiento de Motril. Transparencia
X-ORIGINAL-URL:https://transparencia.motril.es
X-WR-CALDESC:Eventos para Ayuntamiento de Motril. Transparencia
REFRESH-INTERVAL;VALUE=DURATION:PT1H
X-Robots-Tag:noindex
X-PUBLISHED-TTL:PT1H
BEGIN:VTIMEZONE
TZID:UTC
BEGIN:STANDARD
TZOFFSETFROM:+0000
TZOFFSETTO:+0000
TZNAME:UTC
DTSTART:20210101T000000
END:STANDARD
END:VTIMEZONE
BEGIN:VEVENT
DTSTART;TZID=UTC:20220928T093000
DTEND;TZID=UTC:20220928T093000
DTSTAMP:20260424T125133
CREATED:20220927T121128Z
LAST-MODIFIED:20220927T121128Z
UID:4803-1664357400-1664357400@transparencia.motril.es
SUMMARY:Reunión interna
DESCRIPTION:
URL:https://transparencia.motril.es/evento/reunion-interna-97/
CATEGORIES:Reunión
END:VEVENT
BEGIN:VEVENT
DTSTART;TZID=UTC:20220928T100000
DTEND;TZID=UTC:20220928T100000
DTSTAMP:20260424T125133
CREATED:20220927T121308Z
LAST-MODIFIED:20220927T121308Z
UID:4805-1664359200-1664359200@transparencia.motril.es
SUMMARY:La alcaldesa de Motril\, Luisa García Chamorro\, y la teniente de alcalde de Formación y Empleo\, Mari Ángeles Escámez\, visitan los cursos de formación que desarrolla el área municipal.
DESCRIPTION:
URL:https://transparencia.motril.es/evento/la-alcaldesa-de-motril-luisa-garcia-chamorro-y-la-teniente-de-alcalde-de-formacion-y-empleo-mari-angeles-escamez-visitan-los-cursos-de-formacion-que-desarrolla-el-area-municipal/
CATEGORIES:Formación y Empleo
END:VEVENT
BEGIN:VEVENT
DTSTART;TZID=UTC:20220928T104500
DTEND;TZID=UTC:20220928T104500
DTSTAMP:20260424T125133
CREATED:20220927T121550Z
LAST-MODIFIED:20220927T121550Z
UID:4808-1664361900-1664361900@transparencia.motril.es
SUMMARY:La alcaldesa de Motril\, Luisa García Chamorro\, junto al teniente de alcalde de Urbanismo\, Antonio Escámez\, visitan la Plaza Violinista Manuel Pérez Díaz.
DESCRIPTION:
URL:https://transparencia.motril.es/evento/la-alcaldesa-de-motril-luisa-garcia-chamorro-junto-al-teniente-de-alcalde-de-urbanismo-antonio-escamez-visitan-la-plaza-violinista-manuel-perez-diaz/
CATEGORIES:Obras
END:VEVENT
BEGIN:VEVENT
DTSTART;TZID=UTC:20220928T113000
DTEND;TZID=UTC:20220928T113000
DTSTAMP:20260424T125133
CREATED:20220927T121749Z
LAST-MODIFIED:20220927T121749Z
UID:4810-1664364600-1664364600@transparencia.motril.es
SUMMARY:La alcaldesa de Motril\, Luisa García Chamorro y la concejala de Pesca y Anejos\, Ángeles López Cano\, visitan los trabajos de recuperación de patrimonio pesquero
DESCRIPTION:
URL:https://transparencia.motril.es/evento/la-alcaldesa-de-motril-luisa-garcia-chamorro-y-la-concejala-de-pesca-y-anejos-angeles-lopez-cano-visitan-los-trabajos-de-recuperacion-de-patrimonio-pesquero/
END:VEVENT
END:VCALENDAR