BEGIN:VCALENDAR
VERSION:2.0
PRODID:-//Ayuntamiento de Motril. Transparencia - ECPv6.15.20//NONSGML v1.0//EN
CALSCALE:GREGORIAN
METHOD:PUBLISH
X-ORIGINAL-URL:https://transparencia.motril.es
X-WR-CALDESC:Eventos para Ayuntamiento de Motril. Transparencia
REFRESH-INTERVAL;VALUE=DURATION:PT1H
X-Robots-Tag:noindex
X-PUBLISHED-TTL:PT1H
BEGIN:VTIMEZONE
TZID:UTC
BEGIN:STANDARD
TZOFFSETFROM:+0000
TZOFFSETTO:+0000
TZNAME:UTC
DTSTART:20210101T000000
END:STANDARD
END:VTIMEZONE
BEGIN:VEVENT
DTSTART;TZID=UTC:20220923T103000
DTEND;TZID=UTC:20220923T103000
DTSTAMP:20260424T125337
CREATED:20220922T114155Z
LAST-MODIFIED:20220922T114155Z
UID:4785-1663929000-1663929000@transparencia.motril.es
SUMMARY:La alcaldesa de Motril asiste a la XV Asamblea General RECI
DESCRIPTION:
URL:https://transparencia.motril.es/evento/la-alcaldesa-de-motril-asiste-a-la-xv-asamblea-general-reci/
LOCATION:Calle Pacífico\, Málaga
END:VEVENT
BEGIN:VEVENT
DTSTART;TZID=UTC:20220923T220000
DTEND;TZID=UTC:20220923T220000
DTSTAMP:20260424T125337
CREATED:20220922T114033Z
LAST-MODIFIED:20220922T114033Z
UID:4783-1663970400-1663970400@transparencia.motril.es
SUMMARY:La alcaldesa de Motril asiste al espectáculo de Comandante Lara
DESCRIPTION:
URL:https://transparencia.motril.es/evento/la-alcaldesa-de-motril-asiste-al-espectaculo-de-comandante-lara/
LOCATION:Plaza de Toros
END:VEVENT
END:VCALENDAR