BEGIN:VCALENDAR
VERSION:2.0
PRODID:-//Ayuntamiento de Motril. Transparencia - ECPv6.15.20//NONSGML v1.0//EN
CALSCALE:GREGORIAN
METHOD:PUBLISH
X-WR-CALNAME:Ayuntamiento de Motril. Transparencia
X-ORIGINAL-URL:https://transparencia.motril.es
X-WR-CALDESC:Eventos para Ayuntamiento de Motril. Transparencia
REFRESH-INTERVAL;VALUE=DURATION:PT1H
X-Robots-Tag:noindex
X-PUBLISHED-TTL:PT1H
BEGIN:VTIMEZONE
TZID:UTC
BEGIN:STANDARD
TZOFFSETFROM:+0000
TZOFFSETTO:+0000
TZNAME:UTC
DTSTART:20210101T000000
END:STANDARD
END:VTIMEZONE
BEGIN:VEVENT
DTSTART;TZID=UTC:20220922T100000
DTEND;TZID=UTC:20220922T100000
DTSTAMP:20260424T125045
CREATED:20220921T115803Z
LAST-MODIFIED:20220921T115803Z
UID:4780-1663840800-1663840800@transparencia.motril.es
SUMMARY:Reunión interna
DESCRIPTION:
URL:https://transparencia.motril.es/evento/reunion-interna-94/
END:VEVENT
BEGIN:VEVENT
DTSTART;TZID=UTC:20220922T110000
DTEND;TZID=UTC:20220922T110000
DTSTAMP:20260424T125045
CREATED:20220921T115736Z
LAST-MODIFIED:20220921T115736Z
UID:4778-1663844400-1663844400@transparencia.motril.es
SUMMARY:La alcaldesa de Motril\, Luisa García Chamorro\, junto a la teniente de alcalde de Participación Ciudadana\, Inmaculada Torres\, y el empresario Sebastián Linde presentan el primer encuentro de mayores Linde-Barragán
DESCRIPTION:
URL:https://transparencia.motril.es/evento/la-alcaldesa-de-motril-luisa-garcia-chamorro-junto-a-la-teniente-de-alcalde-de-participacion-ciudadana-inmaculada-torres-y-el-empresario-sebastian-linde-presentan-el-primer-encuentro-de-mayores-li/
LOCATION:Salón de Protocolo\, Plaza de España\, 1\, Granada\, 18600\, España
END:VEVENT
END:VCALENDAR