BEGIN:VCALENDAR
VERSION:2.0
PRODID:-//Ayuntamiento de Motril. Transparencia - ECPv6.15.20//NONSGML v1.0//EN
CALSCALE:GREGORIAN
METHOD:PUBLISH
X-ORIGINAL-URL:https://transparencia.motril.es
X-WR-CALDESC:Eventos para Ayuntamiento de Motril. Transparencia
REFRESH-INTERVAL;VALUE=DURATION:PT1H
X-Robots-Tag:noindex
X-PUBLISHED-TTL:PT1H
BEGIN:VTIMEZONE
TZID:UTC
BEGIN:STANDARD
TZOFFSETFROM:+0000
TZOFFSETTO:+0000
TZNAME:UTC
DTSTART:20210101T000000
END:STANDARD
END:VTIMEZONE
BEGIN:VEVENT
DTSTART;TZID=UTC:20220915T093000
DTEND;TZID=UTC:20220915T093000
DTSTAMP:20260424T144805
CREATED:20220914T103635Z
LAST-MODIFIED:20220914T103635Z
UID:4762-1663234200-1663234200@transparencia.motril.es
SUMMARY:La alcaldesa de Motril\, Luisa García Chamorro\, junto al teniente de alcalde de Turismo\, José Lemos\, asiste al evento Seatrade Cruise Med 2022
DESCRIPTION:
URL:https://transparencia.motril.es/evento/la-alcaldesa-de-motril-luisa-garcia-chamorro-junto-al-teniente-de-alcalde-de-turismo-jose-lemos-asiste-al-evento-seatrade-cruise-med-2022/
LOCATION:FYCMA Palacio de Ferias y Congresos de Málaga
END:VEVENT
END:VCALENDAR