BEGIN:VCALENDAR
VERSION:2.0
PRODID:-//Ayuntamiento de Motril. Transparencia - ECPv6.15.20//NONSGML v1.0//EN
CALSCALE:GREGORIAN
METHOD:PUBLISH
X-ORIGINAL-URL:https://transparencia.motril.es
X-WR-CALDESC:Eventos para Ayuntamiento de Motril. Transparencia
REFRESH-INTERVAL;VALUE=DURATION:PT1H
X-Robots-Tag:noindex
X-PUBLISHED-TTL:PT1H
BEGIN:VTIMEZONE
TZID:UTC
BEGIN:STANDARD
TZOFFSETFROM:+0000
TZOFFSETTO:+0000
TZNAME:UTC
DTSTART:20210101T000000
END:STANDARD
END:VTIMEZONE
BEGIN:VEVENT
DTSTART;TZID=UTC:20220906T093000
DTEND;TZID=UTC:20220906T093000
DTSTAMP:20260424T125249
CREATED:20220905T104907Z
LAST-MODIFIED:20220905T104907Z
UID:4732-1662456600-1662456600@transparencia.motril.es
SUMMARY:Reunión interna
DESCRIPTION:
URL:https://transparencia.motril.es/evento/reunion-interna-90/
END:VEVENT
BEGIN:VEVENT
DTSTART;TZID=UTC:20220906T100000
DTEND;TZID=UTC:20220906T100000
DTSTAMP:20260424T125249
CREATED:20220905T104925Z
LAST-MODIFIED:20220905T104925Z
UID:4734-1662458400-1662458400@transparencia.motril.es
SUMMARY:Reunión interna
DESCRIPTION:
URL:https://transparencia.motril.es/evento/reunion-interna-91/
END:VEVENT
BEGIN:VEVENT
DTSTART;TZID=UTC:20220906T113000
DTEND;TZID=UTC:20220906T113000
DTSTAMP:20260424T125249
CREATED:20220905T104845Z
LAST-MODIFIED:20220905T104845Z
UID:4730-1662463800-1662463800@transparencia.motril.es
SUMMARY:La alcaldesa de Motril\, Luisa García Chamorro\, asiste a la presentación del Festival Música Sur
DESCRIPTION:
URL:https://transparencia.motril.es/evento/la-alcaldesa-de-motril-luisa-garcia-chamorro-asiste-a-la-presentacion-del-festival-musica-sur/
LOCATION:Real Club Náutico\, Motril\, 18600\, España
END:VEVENT
END:VCALENDAR