BEGIN:VCALENDAR
VERSION:2.0
PRODID:-//Ayuntamiento de Motril. Transparencia - ECPv6.15.20//NONSGML v1.0//EN
CALSCALE:GREGORIAN
METHOD:PUBLISH
X-ORIGINAL-URL:https://transparencia.motril.es
X-WR-CALDESC:Eventos para Ayuntamiento de Motril. Transparencia
REFRESH-INTERVAL;VALUE=DURATION:PT1H
X-Robots-Tag:noindex
X-PUBLISHED-TTL:PT1H
BEGIN:VTIMEZONE
TZID:UTC
BEGIN:STANDARD
TZOFFSETFROM:+0000
TZOFFSETTO:+0000
TZNAME:UTC
DTSTART:20210101T000000
END:STANDARD
END:VTIMEZONE
BEGIN:VEVENT
DTSTART;TZID=UTC:20220826T110000
DTEND;TZID=UTC:20220826T110000
DTSTAMP:20260424T143613
CREATED:20220826T090845Z
LAST-MODIFIED:20220826T090845Z
UID:4703-1661511600-1661511600@transparencia.motril.es
SUMMARY:Reunión interna
DESCRIPTION:
URL:https://transparencia.motril.es/evento/reunion-interna-86/
CATEGORIES:Reunión
END:VEVENT
BEGIN:VEVENT
DTSTART;TZID=UTC:20220826T203000
DTEND;TZID=UTC:20220826T203000
DTSTAMP:20260424T143613
CREATED:20220825T095408Z
LAST-MODIFIED:20220825T095408Z
UID:4697-1661545800-1661545800@transparencia.motril.es
SUMMARY:LA alcaldesa de Motril\, Luisa García Chamorro\, acude a la entrega de los Premios Sirenita Del Real Club Náutico de Motril
DESCRIPTION:
URL:https://transparencia.motril.es/evento/la-alcaldesa-de-motril-luisa-garcia-chamorro-acude-a-la-entrega-de-los-premios-sirenita-del-real-club-nautico-de-motril/
CATEGORIES:Actos
END:VEVENT
END:VCALENDAR