BEGIN:VCALENDAR
VERSION:2.0
PRODID:-//Ayuntamiento de Motril. Transparencia - ECPv6.15.20//NONSGML v1.0//EN
CALSCALE:GREGORIAN
METHOD:PUBLISH
X-ORIGINAL-URL:https://transparencia.motril.es
X-WR-CALDESC:Eventos para Ayuntamiento de Motril. Transparencia
REFRESH-INTERVAL;VALUE=DURATION:PT1H
X-Robots-Tag:noindex
X-PUBLISHED-TTL:PT1H
BEGIN:VTIMEZONE
TZID:UTC
BEGIN:STANDARD
TZOFFSETFROM:+0000
TZOFFSETTO:+0000
TZNAME:UTC
DTSTART:20210101T000000
END:STANDARD
END:VTIMEZONE
BEGIN:VEVENT
DTSTART;TZID=UTC:20220820T200000
DTEND;TZID=UTC:20220820T200000
DTSTAMP:20260424T143504
CREATED:20220819T112725Z
LAST-MODIFIED:20220819T112725Z
UID:4619-1661025600-1661025600@transparencia.motril.es
SUMMARY:La alcaldesa de Motril\, Luisa García Chamorro\, y miembros del equipo de Gobierno\, junto al presidente de la Federación Española de Fútbol\, Luis Rubiales\, asisten a la presentación de los equipos del club Puerto de Motril C.F.
DESCRIPTION:
URL:https://transparencia.motril.es/evento/la-alcaldesa-de-motril-luisa-garcia-chamorro-y-miembros-del-equipo-de-gobierno-junto-al-presidente-de-la-federacion-espanola-de-futbol-luis-rubiales-asisten-a-la-presentacion-de-los-equipos-del-c/
LOCATION:Campo de fútbol de Varadero
END:VEVENT
END:VCALENDAR